Workbook

Sheet BALANCE DIC-24
B1: ASOCIACIÓN DE EXALUMNAS DEL COLEGIO DE LA COMPAÑÍA DE MARÍA LA ENSEÑANZA
B2: NIT: 890.905.759-5
B3: ESTADO DE SITUACIÓN FINANCIERA (BALANCE GENERAL)
B4: COMPARATIVO NOV-DIC 2024
C6: 45597 | D6: 45627 | E6: diferencia
B8: ACTIVOS
B10: EFECTIVO Y EQUIVALENTE DE EFECTIVO | C10: 221339675 | D10: =+D11+D12+D13+D14+D15 -> 173959013 | E10: =+D10-C10 -> -47380662
B11: CAJA GENERAL | C11: 162202 | D11: 158522 | E11: =+D11-C11 -> -3680
B12: CUENTAS DE AHORRO 10872684307 | C12: 63825715 | D12: 43030728 | E12: =+D12-C12 -> -20794987
B13: FIDUCIA NO, 7001000022462 BANCOLOMBIA | C13: 22798191 | D13: 22909610 | E13: =+D13-C13 -> 111419
B14: FIDUCIA NO. 617002005345 BANCOLOMBIA F.SOCIAL | C14: 37495763 | D14: 10802349 | E14: =+D14-C14 -> -26693414
B15: CDT BBVA 85538644-VILLATINA | C15: 97057804 | D15: 97057804 | E15: =+D15-C15 -> 0
B16: DUEDORES NACIONALES | C16: 0 | D16: =+D17 -> 0 | E16: =+D16-C16 -> 0
B17: DEUDORES NACIONALES | E17: =+D17-C17 -> 0
B18: OTRAS CUENTAS | C18: 5029300 | D18: =+D19 -> 0 | E18: =+D18-C18 -> -5029300
B19: OTRAS CUENTAS POR COBRAR | C19: 5029300 | E19: =+D19-C19 -> -5029300
B20: DEUDORES NACIONALES | C20: 0 | D20: =+D21 -> 0 | E20: =+D20-C20 -> 0
B21: CAJA DE COMPENSACION COMFAMA | C21: 0 | D21: 0 | E21: =+D21-C21 -> 0
B22: ANTICIPO DE IMPUESTOS | C22: 2567906 | D22: =+D23 -> 3504900 | E22: =+D22-C22 -> 936994
B23: ANTICIPO DE IMPUESTOS | C23: 2567906 | D23: 3504900 | E23: =+D23-C23 -> 936994
B24: INVENTARIOS | C24: 101793841 | D24: =+D25 -> 143534641 | E24: =+D24-C24 -> 41740800
B25: MCIA NO FCADAS POR LA EMPRESA | C25: 101793841 | D25: 143534641 | E25: =+D25-C25 -> 41740800
B26: PROPIEDAD, PLANTA Y EQUIPO | C26: 1253020999 | D26: =+D27+D28+D29+D30+D31+D32 -> 1252634826 | E26: =+D26-C26 -> -386173
B27: CASA FÁTIMA | C27: 1249397400 | D27: 1249397400 | E27: =+D27-C27 -> 0
B28: MAQUINARIA Y EQUIPO | C28: 9743859 | D28: 9743859 | E28: =+D28-C28 -> 0
B29: MUEBLES Y EQUIPO DE OFICINA | C29: 10825166 | D29: 10825166 | E29: =+D29-C29 -> 0
B30: SOFTWARE Y EQUIPO DE COMPUTO | C30: 19814579 | D30: 19814579 | E30: =+D30-C30 -> 0
B31: DEPRECIACIÓN ACUMULADA | C31: -74431564 | D31: -74431564 | E31: =+D31-C31 -> 0
B32: GASTOS DIFERIDOS | C32: 37671559 | D32: 37285386 | E32: =+D32-C32 -> -386173
B33: TOTAL ACTIVOS | C33: 1583751721 | D33: =+D10+D18+D20+D22+D24+D26 -> 1573633380 | E33: =+D33-C33 -> -10118341
E34: =+D34-C34 -> 0
B35: PASIVOS | C35: 40484661 | D35: =+D36+D37+D38+D39+D40 -> 55666282 | E35: =+D35-C35 -> 15181621
B36: PROVEEDORES NACIONALES | C36: 11036627 | D36: 26826200 | E36: =+D36-C36 -> 15789573
B37: RETENCIÓN EN LA FUENTE POR PAGAR | C37: 308390 | D37: 1785737 | E37: =+D37-C37 -> 1477347
B38: RETENCIONES Y APORTES DE NOMINA | C38: 3650300 | D38: 3650300 | E38: =+D38-C38 -> 0
B39: IMPUESTOS GRAVÁMENES Y TASAS | C39: 8824527 | D39: 17142604 | E39: =+D39-C39 -> 8318077
B40: OBLIGACIONES LABORALES | C40: 16664817 | D40: 6261441 | E40: =+D40-C40 -> -10403376
B41: TOTAL PASIVOS | C41: 40484661 | D41: =SUM(D36:D40) -> 55666282 | E41: =+D41-C41 -> 15181621
E42: =+D42-C42 -> 0
B43: PATRIMONIO | C43: 1543267059 | D43: =+D44+D45+D46+D47+D48 -> 1.5179671e+09 | E43: =+D43-C43 -> -25299961
...

Sheet ER AJUSTADO ENE-JUL CC 2024
A1: ASOCIACIÓN DE EXALUMNAS DEL COLEGIO LA ENSEÑANZA
A2: NIT: 890.905.759-5
A3: Estado de Resultados por Períodos
A4: De enero a marzo 2024
B6: ENERO | C6: FEBRERO | D6: MARZO | E6: ABRIL | F6: MAYO | G6: JUNIO | H6: JULIO | I6: AGOSTO | J6: SEPTIEMBRE | K6: OCTUBRE | L6: NOVIEMBRE | M6: DICIEMBRE | N6: TOTAL | O6: PART % | P6: NOTAS
A7: INGRESOS
A8: INGRESOS POR ACTIVIDADES COMERCIALES | P8: 3
A9: VENTAS DE UNIFORMES | B9: 73603359 | C9: 8892438 | D9: 3258823 | E9: 5262185 | F9: 3824370 | G9: 2928571 | N9: =SUM(B9:M9) -> 97769746
A10: ARRENDAMIENTOS | B10: 9226600 | C10: 9226600 | D10: 9226600 | E10: 9226600 | F10: 9226600 | G10: 9226600 | N10: =SUM(B10:M10) -> 55359600
A11: TOTAL POR ACTIVIDADES COMERCIALES | B11: =+B9+B10 -> 82829959 | C11: =SUM(C9:C10) -> 18119038 | D11: =SUM(D9:D10) -> 12485423 | E11: =SUM(E9:E10) -> 14488785 | F11: =SUM(F9:F10) -> 13050970 | G11: =SUM(G9:G10) -> 12155171 | H11: =SUM(H9:H10) -> 0 | I11: =SUM(I9:I10) -> 0 | J11: =SUM(J9:J10) -> 0 | ... N11: =SUM(N9:N10) -> 153129346 | O11: =+N11/N40 -> 0.35239609
A12: INGRESOS POR DONACIONES | P12: 4
A13: APORTE DE EXALUMNAS | B13: 510000 | C13: 585000 | D13: 595000 | E13: 485000 | F13: 505000 | G13: 515000 | N13: =SUM(B13:M13) -> 3195000
A14: CUOTA DE AFILIACIÓN | C14: 180000 | D14: 810000 | G14: 90000 | N14: =SUM(B14:M14) -> 1080000
A15: QUINQUENIOS | N15: =SUM(B15:M15) -> 0
A16: ALMUERZOS | G16: 1970000 | N16: =SUM(B16:M16) -> 1970000
A17: TIENDA ESCOLAR | B17: 676500 | D17: 738900 | E17: 762400 | F17: 824800 | G17: 594800 | N17: =SUM(B17:M17) -> 3597400
A18: CAMPAÑA ESPECIAL ALEX | B18: 3860000 | C18: 60000 | N18: =SUM(B18:M18) -> 3920000
A19: CONFERENCIA | N19: =SUM(B19:M19) -> 0
A20: RETIRO | N20: =SUM(B20:M20) -> 0
A21: ALMUERZO | N21: =SUM(B21:M21) -> 0
A22: FOTOGRAFIA | N22: =SUM(B22:M22) -> 0
A23: CAMPAÑA BONO (RIFA) | N23: =SUM(B23:M23) -> 0
A24: PROYECTO AJUARES | N24: =SUM(B24:M24) -> 0
A25: ROPERO | C25: 1025000 | D25: 582500 | E25: 3508000 | F25: 988500 | G25: 1342000 | N25: =SUM(B25:M25) -> 7446000 | Q25: =+N15+N19+N20+N21+N22 -> 0
A26: PROYECTO DE SEGURIDAD ALIMENTARIA | B26: 732000 | C26: 4350000 | D26: 2956000 | E26: 2911000 | F26: 3570000 | G26: 3310000 | N26: =SUM(B26:M26) -> 17829000
A27: PROYECTO DE SEGURIDAD ALIMENTARIA ÉXITO-ASOCIACION | C27: 10557000 | D27: 10251000 | E27: 10557000 | F27: 10404000 | G27: 10557000 | N27: =SUM(B27:M27) -> 52326000
A28: DONACIONES DE TERCEROS PARTICULARES | N28: =SUM(B28:M28) -> 0
A29: OTROS | D29: 1500000 | N29: =SUM(B29:M29) -> 1500000
A30: TOTAL DONACIONES | B30: =SUM(B13:B29) -> 5778500 | C30: =SUM(C13:C29) -> 16757000 | D30: =SUM(D13:D29) -> 17433400 | E30: =SUM(E13:E29) -> 18223400 | F30: =SUM(F13:F29) -> 16292300 | G30: =SUM(G13:G29) -> 18378800 | H30: =SUM(H13:H29) -> 0 | I30: =SUM(I13:I29) -> 0 | ... N30: =SUM(N13:N29) -> 92863400 | O30: =+N30/N40 -> 0.21370625
A31: INGRESOS POR EJECUCION DE PROYECTO EDUCATIVO | P31: 5
A32: JUANITAS PRO Y PLUS | B32: 0 | C32: 0 | D32: 56667231 | E32: 83617208 | F32: 4952876 | G32: 40774663 | N32: =SUM(B32:M32) -> 186011978
A33: TOTAL PROYECTOS EDUCATIVOS | B33: =SUM(B32) -> 0 | C33: =SUM(C32) -> 0 | D33: =SUM(D32) -> 56667231 | E33: =SUM(E32) -> 83617208 | F33: =SUM(F32) -> 4952876 | G33: =SUM(G32) -> 40774663 | H33: =SUM(H32) -> 0 | I33: =SUM(I32) -> 0 | ... N33: =SUM(N32) -> 186011978 | O33: =+N33/N40 -> 0.42806878
A34: INGRESOS NO OPERACIONALES | P34: 6
A35: INTERESES FINANCIEROS | B35: 649746 | C35: 686175 | D35: 546968 | E35: 147452 | F35: 160593 | G35: 231923 | N35: =SUM(B35:M35) -> 2422857
A36: APROVECHAMIENTOS | E36: 2000 | N36: =SUM(B36:M36) -> 2000
A37: REINTEGRO DE COSTOS Y GASTOS | E37: 108000 | N37: =SUM(B37:M37) -> 108000
A38: AJUSTE AL PESO | C38: 0.72 | D38: 9 | N38: =SUM(B38:M38) -> 9.72
A39: TOTAL INGRESOS NO OPERACIONALES | B39: =SUM(B35:B38) -> 649746 | C39: =SUM(C35:C38) -> 686175.72 | D39: =SUM(D35:D38) -> 546977 | E39: =SUM(E35:E38) -> 257452 | F39: =SUM(F35:F38) -> 160593 | G39: =SUM(G35:G38) -> 231923 | H39: =SUM(H35:H38) -> 0 | I39: =SUM(I35:I38) -> 0 | ... N39: =SUM(N35:N38) -> 2532866.7 | O39: =+N39/N40 -> 0.0058288783
A40: TOTAL DE INGRESOS | B40: =+B11+B30+B33+B39 -> 89258205 | C40: =+C11+C30+C33+C39 -> 35562214 | D40: =+D11+D30+D33+D39 -> 87133031 | E40: =+E11+E30+E33+E39 -> 116586845 | F40: =+F11+F30+F33+F39 -> 34456739 | G40: =+G11+G30+G33+G39 -> 71540557 | H40: =+H11+H30+H33+H39 -> 0 | I40: =+I11+I30+I33+I39 -> 0 | ... O40: =+O11+O30+O33+O39 -> 1
A42: GASTOS Y COSTOS | P42: 7
...

Sheet ER A JUL 2024
B1: ASOCIACIÓN DE EXALUMNAS DEL COLEGIO LA ENSEÑANZA
B2: NIT: 890.905.759-5
B3: Estado de Resultados por Períodos
B4: De enero a mayo 2024
B6: DESCRIPCIÓN | C6: ENERO | D6: FEBRERO | E6: MARZO | F6: ABRIL | G6: MAYO | H6: JUNIO | I6: JULIO | J6: AGO | K6: SEPT | L6: OCT | M6: NOV | N6: DIC | O6: TOTAL | P6: PART % | Q6: NOTAS
B7: INGRESOS
B8: INGRESOS POR ACTIVIDADES COMERCIALES | Q8: 3
B9: VENTAS DE UNIFORMES | C9: 73603359 | D9: 8892438 | E9: 3258823 | F9: =+'ER AJUSTADO ENE-JUL CC 2024'!E9 -> 5262185 | G9: =+'ER AJUSTADO ENE-JUL CC 2024'!F9 -> 3824370 | H9: =+'ER AJUSTADO ENE-JUL CC 2024'!G9 -> 2928571 | I9: 5863025 | O9: =SUM(C9:N9) -> 103632771
B10: ARRENDAMIENTOS | C10: 9226600 | D10: 9226600 | E10: 9226600 | F10: =+'ER AJUSTADO ENE-JUL CC 2024'!E10 -> 9226600 | G10: =+'ER AJUSTADO ENE-JUL CC 2024'!F10 -> 9226600 | H10: =+'ER AJUSTADO ENE-JUL CC 2024'!G10 -> 9226600 | I10: 9226600 | O10: =SUM(C10:N10) -> 64586200
B11: TOTAL POR ACTIVIDADES COMERCIALES | C11: =+C9+C10 -> 82829959 | D11: =SUM(D9:D10) -> 18119038 | E11: =SUM(E9:E10) -> 12485423 | F11: =SUM(F9:F10) -> 14488785 | G11: =SUM(G9:G10) -> 13050970 | H11: =SUM(H9:H10) -> 12155171 | I11: =SUM(I9:I10) -> 15089625 | J11: =SUM(J9:J10) -> 0 | K11: =SUM(K9:K10) -> 0 | ... O11: =SUM(O9:O10) -> 168218971 | P11: =+O11/O40 -> 0.33531242
B12: INGRESOS POR DONACIONES | Q12: 4
B13: APORTE DE EXALUMNAS | C13: 510000 | D13: 585000 | E13: 595000 | F13: 485000 | G13: =+'ER AJUSTADO ENE-JUL CC 2024'!F13 -> 505000 | H13: 515000 | I13: 1600000 | O13: =SUM(C13:N13) -> 4795000 | P13: =+O13/$O$30 -> 0.044569162
B14: CUOTA DE AFILIACIÓN | D14: 180000 | E14: 810000 | H14: 90000 | O14: =SUM(C14:N14) -> 1080000 | P14: =+O14/$O$30 -> 0.010038518
B15: QUINQUENIOS | I15: 1805000 | O15: =SUM(C15:N15) -> 1805000 | P15: =+O15/$O$30 -> 0.016777338
B16: ALMUERZOS | H16: 1970000 | O16: =SUM(C16:N16) -> 1970000
B17: TIENDA ESCOLAR | C17: 676500 | E17: 738900 | F17: 762400 | G17: =+'ER AJUSTADO ENE-JUL CC 2024'!F17 -> 824800 | H17: 594800 | I17: 1246200 | O17: =SUM(C17:N17) -> 4843600
B18: CAMPAÑA ESPECIAL ALEX | C18: 3860000 | D18: 60000 | O18: =SUM(C18:N18) -> 3920000 | P18: =+O18/$O$30 -> 0.036436103
B19: CONFERENCIA | O19: =SUM(C19:N19) -> 0 | P19: =+O19/$O$30 -> 0
B20: RETIRO | O20: =SUM(C20:N20) -> 0 | P20: =+O20/$O$30 -> 0
B21: ALMUERZO | O21: =SUM(C21:N21) -> 0 | P21: =+O21/$O$30 -> 0
B22: FOTOGRAFIA | O22: =SUM(C22:N22) -> 0 | P22: =+O22/$O$30 -> 0
B23: CAMPAÑA BONO (RIFA) | O23: =SUM(C23:N23) -> 0 | P23: =+O23/$O$30 -> 0
B24: PROYECTO AJUARES | O24: =SUM(C24:N24) -> 0 | P24: =+O24/$O$30 -> 0
B25: ROPERO | D25: 1025000 | E25: 582500 | F25: 3508000 | G25: =+'ER AJUSTADO ENE-JUL CC 2024'!F25 -> 988500 | H25: 1342000 | I25: 1436000 | O25: =SUM(C25:N25) -> 8882000 | P25: =+O25/$O$30 -> 0.082557517
B26: PROYECTO DE SEGURIDAD ALIMENTARIA | C26: 732000 | D26: 4350000 | E26: 2956000 | F26: 2911000 | G26: =+'ER AJUSTADO ENE-JUL CC 2024'!F26 -> 3570000 | H26: 3310000 | I26: 3435000 | O26: =SUM(C26:N26) -> 21264000 | P26: =+O26/$O$30 -> 0.19764727
B27: PROYECTO DE SEGURIDAD ALIMENTARIA ÉXITO-ASOCIACION | D27: 10557000 | E27: 10251000 | F27: 10557000 | G27: =+'ER AJUSTADO ENE-JUL CC 2024'!F27 -> 10404000 | H27: 10557000 | O27: =SUM(C27:N27) -> 52326000 | P27: =+O27/$O$30 -> 0.48636621
B28: DONACIONES DE TERCEROS PARTICULARES | I28: 5200000 | O28: =SUM(C28:N28) -> 5200000 | P28: =+O28/$O$30 -> 0.048333606
B29: OTROS | E29: 1500000 | O29: =SUM(C29:N29) -> 1500000 | P29: =+O29/$O$30 -> 0.013942386
B30: TOTAL DONACIONES | C30: =SUM(C13:C29) -> 5778500 | D30: =SUM(D13:D29) -> 16757000 | E30: =SUM(E13:E29) -> 17433400 | F30: =SUM(F13:F29) -> 18223400 | G30: =SUM(G13:G29) -> 16292300 | H30: =SUM(H13:H29) -> 18378800 | I30: =SUM(I13:I29) -> 14722200 | J30: =SUM(J13:J29) -> 0 | ... O30: =SUM(O13:O29) -> 107585600 | P30: =+O30/O40 -> 0.21445136
B31: INGRESOS POR EJECUCION DE PROYECTO EDUCATIVO | Q31: 5
B32: JUANITAS PRO Y PLUS | C32: 0 | D32: 0 | E32: 56667231 | F32: =+'ER AJUSTADO ENE-JUL CC 2024'!E32 -> 83617208 | G32: =+'ER AJUSTADO ENE-JUL CC 2024'!F32 -> 4952876 | H32: 40774663 | I32: 36965872 | O32: =SUM(C32:N32) -> 222977850
B33: TOTAL PROYECTOS EDUCATIVOS | C33: =SUM(C32) -> 0 | D33: =SUM(D32) -> 0 | E33: =SUM(E32) -> 56667231 | F33: =SUM(F32) -> 83617208 | G33: =SUM(G32) -> 4952876 | H33: =SUM(H32) -> 40774663 | I33: =SUM(I32) -> 36965872 | J33: =SUM(J32) -> 0 | ... O33: =SUM(O32) -> 222977850 | P33: =+O33/O40 -> 0.44446379
B34: INGRESOS NO OPERACIONALES | Q34: 6
B35: INTERESES FINANCIEROS | C35: 649746 | D35: 686175 | E35: 546968 | F35: 147452 | G35: =+'ER AJUSTADO ENE-JUL CC 2024'!F35 -> 160593 | H35: 231923 | I35: 363033 | O35: =SUM(C35:N35) -> 2785890 | P35: =+O35/$O$39 -> 0.96201124
B36: APROVECHAMIENTOS | F36: 2000 | O36: =SUM(C36:N36) -> 2000 | P36: =+O36/$O$39 -> 0.00069063117
B37: REINTEGRO DE COSTOS Y GASTOS | F37: 108000 | O37: =SUM(C37:N37) -> 108000 | P37: =+O37/$O$39 -> 0.037294083
B38: AJUSTE AL PESO | D38: 0.72 | E38: 9 | I38: 2 | O38: =SUM(C38:N38) -> 11.72 | P38: =+O38/$O$39 -> 4.0470987e-06
B39: TOTAL INGRESOS NO OPERACIONALES | C39: =SUM(C35:C38) -> 649746 | D39: =SUM(D35:D38) -> 686175.72 | E39: =SUM(E35:E38) -> 546977 | F39: =SUM(F35:F38) -> 257452 | G39: =SUM(G35:G38) -> 160593 | H39: =SUM(H35:H38) -> 231923 | I39: =SUM(I35:I38) -> 363035 | J39: =SUM(J35:J38) -> 0 | ... O39: =SUM(O35:O38) -> 2895901.7 | P39: =+O39/O40 -> 0.0057724274
B40: TOTAL DE INGRESOS | C40: =+C11+C30+C33+C39 -> 89258205 | D40: =+D11+D30+D33+D39 -> 35562214 | E40: =+E11+E30+E33+E39 -> 87133031 | F40: =+F11+F30+F33+F39 -> 116586845 | G40: =+G11+G30+G33+G39 -> 34456739 | H40: =+H11+H30+H33+H39 -> 71540557 | I40: =+I11+I30+I33+I39 -> 67140732 | J40: =+J11+J30+J33+J39 -> 0 | ... P40: =+P11+P30+P33+P39 -> 1
B42: GASTOS Y COSTOS | Q42: 7
...

Sheet EJECUCION SOC ENE 24
A1: EJECUCION SOCIAL ASOCIACION DE EXALUMNAS COLEGIO LA ENSEÑAÑZA
C2: ADMINISTRACION | E2: PROYECTOS EDUCATIVOS INVERSION SOCIAL | L2: INVERSION SOCIAL | T2: ACTIVIDAD COMERCIAL | AB2: PRUEBA
A3: CONCEPTO DEL GASTO | B3: GASTO O COSTO TOTAL | C3: CCA | D3: CCA | E3: CC1 | G3: CC2 | I3: CC3 | K3: CC1+CC2+CC3 | L3: CC4 | N3: CC4 | O3: CC5 | Q3: CC6 | S3: CC4+CC5+CC6 | T3: CC7 | V3: CC8 | X3: CC7+CC8 | Y3: CC9 | AA3: CC9
A4: Nomina y Honorarios | B4: Valor total del gasto | C4: Aministracion | D4: Total del gasto cargado a Administración | E4: juanitas Pro | F4: valor | G4: Juanitas Plus | H4: valor | I4: Conferencias | J4: Valor | K4: Total del gasto en Proyectos eduacativos | L4: Mercados | M4: Valor | N4: Total mercados | O4: Ropero | P4: Valor | Q4: Eventos Asociación Eucaristias-Bonos-Quinquenios-Ajuares-Retiros y otros | R4: Valor | S4: Total del gasto llevado a la Inversion social | T4: Tienda escolar | U4: Valor | V4: Venta de uniformes | W4: Valor | X4: Total gastos uniformes y tienda | Y4: Arriendos comerciales | Z4: Valor | AA4: Total del gasto y costo llevado a la Actividad comercial | AB4: casilla de prueba 1 | AC4: casilla de prueba 2
A5: CLARA VICTORIA MONTEALEGRE | B5: =+' NOMINAS ENE-DIC'!I6+' NOMINAS ENE-DIC'!I15 -> 3555560 | C5: =+'%'!B4 -> 0.35 | D5: =+B5*C5 -> 1244446 | E5: =+'%'!C4 -> 0 | F5: =+B5*E5 -> 0 | G5: =+'%'!D4 -> 0 | H5: =+B5*G5 -> 0 | I5: =+'%'!E4 -> 0 | J5: =+B5*I5 -> 0 | K5: =+F5+H5+J5 -> 0 | L5: =+'%'!F4 -> 0.01 | M5: =+L5*B5 -> 35555.6 | N5: =+M5 -> 35555.6 | O5: =+'%'!G4 -> 0.02 | P5: =+O5*B5 -> 71111.2 | Q5: =+'%'!H4 -> 0.05 | R5: =+Q5*B5 -> 177778 | S5: =+P5+R5 -> 248889.2 | T5: =+'%'!I4 -> 0.2 | U5: =+T5*B5 -> 711112 | V5: =+'%'!J4 -> 0.27 | W5: =+V5*B5 -> 960001.2 | X5: =+U5+W5 -> 1671113.2 | Y5: =+'%'!K4 -> 0.1 | Z5: =+Y5*B5 -> 355556 | AA5: =+Z5 -> 355556 | AB5: =+(D5+K5+N5+S5+X5+AA5)-B5 -> 0 | AC5: =+C5+E5+G5+I5+L5+O5+Q5+T5+V5+Y5 -> 1
A6: DAVID ALEJANDRO MUÑOZ RUIZ | B6: =+' NOMINAS ENE-DIC'!I7+' NOMINAS ENE-DIC'!I16 -> 2505296 | C6: =+'%'!B5 -> 0 | D6: =+B6*C6 -> 0 | E6: =+'%'!C5 -> 0.4 | F6: =+B6*E6 -> 1002118.4 | G6: =+'%'!D5 -> 0.6 | H6: =+B6*G6 -> 1503177.6 | I6: =+'%'!E5 -> 0 | J6: =+B6*I6 -> 0 | K6: =+F6+H6+J6 -> 2505296 | L6: =+'%'!F5 -> 0 | M6: =+L6*B6 -> 0 | N6: =+M6 -> 0 | O6: =+'%'!G5 -> 0 | P6: =+O6*B6 -> 0 | Q6: =+'%'!H5 -> 0 | R6: =+Q6*B6 -> 0 | S6: =+P6+R6 -> 0 | T6: =+'%'!I5 -> 0 | U6: =+T6*B6 -> 0 | V6: =+'%'!J5 -> 0 | W6: =+V6*B6 -> 0 | X6: =+U6+W6 -> 0 | Y6: =+'%'!K5 -> 0 | Z6: =+Y6*B6 -> 0 | AA6: =+Z6 -> 0 | AB6: =+(D6+K6+N6+S6+X6+AA6)-B6 -> 0 | AC6: =+C6+E6+G6+I6+L6+O6+Q6+T6+V6+Y6 -> 1
A7: VANESSA FORONDA LOPEZ | B7: =+' NOMINAS ENE-DIC'!I5+' NOMINAS ENE-DIC'!I14 -> 2505296 | C7: =+'%'!B7 -> 0 | D7: =+B7*C7 -> 0 | E7: =+'%'!C7 -> 0.25 | F7: =+B7*E7 -> 626324 | G7: =+'%'!D7 -> 0.45 | H7: =+B7*G7 -> 1127383.2 | I7: =+'%'!E7 -> 0.2 | J7: =+B7*I7 -> 501059.2 | K7: =+F7+H7+J7 -> 2254766.4 | L7: =+'%'!F7 -> 0 | M7: =+L7*B7 -> 0 | N7: =+M7 -> 0 | O7: =+'%'!G7 -> 0 | P7: =+O7*B7 -> 0 | Q7: =+'%'!H7 -> 0.05 | R7: =+Q7*B7 -> 125264.8 | S7: =+P7+R7 -> 125264.8 | T7: =+'%'!I7 -> 0 | U7: 0 | V7: =+'%'!J7 -> 0.05 | W7: =+V7*B7 -> 125264.8 | X7: =+U7+W7 -> 125264.8 | Y7: =+'%'!K7 -> 0 | Z7: =+Y7*B7 -> 0 | AA7: =+Z7 -> 0 | AB7: =+(D7+K7+N7+S7+X7+AA7)-B7 -> 0 | AC7: =+C7+E7+G7+I7+L7+O7+Q7+T7+V7+Y7 -> 1
A8: MARIA EUGENIA RESTREPO (Honorarios) | B8: =+' NOMINAS ENE-DIC'!D22 -> 2827000 | C8: =+'%'!B8 -> 0.2 | D8: =+B8*C8 -> 565400 | E8: =+'%'!C8 -> 0.1 | F8: =+B8*E8 -> 282700 | G8: =+'%'!D8 -> 0.3 | H8: =+B8*G8 -> 848100 | I8: =+'%'!E8 -> 0.1 | J8: =+B8*I8 -> 282700 | K8: =+F8+H8+J8 -> 1413500 | L8: =+'%'!F8 -> 0 | M8: =+L8*B8 -> 0 | N8: =+M8 -> 0 | O8: 0.02 | P8: =+O8*B8 -> 56540 | Q8: =+'%'!H8 -> 0.05 | R8: =+Q8*B8 -> 141350 | S8: =+P8+R8 -> 197890 | T8: =+'%'!I8 -> 0 | U8: =+T8*B8 -> 0 | V8: =+'%'!J8 -> 0.1 | W8: =+V8*B8 -> 282700 | X8: =+U8+W8 -> 282700 | Y8: 0.13 | Z8: =+Y8*B8 -> 367510 | AA8: =+Z8 -> 367510 | AB8: =+(D8+K8+N8+S8+X8+AA8)-B8 -> 0 | AC8: =+C8+E8+G8+I8+L8+O8+Q8+T8+V8+Y8 -> 1
A9: LUZ MARIA GOMEZ SALDARRIAGA | B9: =+' NOMINAS ENE-DIC'!D23 -> 1809600 | C9: =+'%'!B8 -> 0.2 | D9: =+B9*C9 -> 361920 | E9: =+'%'!C8 -> 0.1 | F9: =+B9*E9 -> 180960 | G9: =+'%'!D8 -> 0.3 | H9: =+B9*G9 -> 542880 | I9: =+'%'!E8 -> 0.1 | J9: =+B9*I9 -> 180960 | K9: =+F9+H9+J9 -> 904800 | L9: =+'%'!F8 -> 0 | M9: =+L9*B9 -> 0 | N9: =+M9 -> 0 | O9: 0.02 | P9: =+O9*B9 -> 36192 | Q9: =+'%'!H8 -> 0.05 | R9: =+Q9*B9 -> 90480 | S9: =+P9+R9 -> 126672 | T9: =+'%'!I8 -> 0 | U9: =+T9*B9 -> 0 | V9: =+'%'!J8 -> 0.1 | W9: =+V9*B9 -> 180960 | X9: =+U9+W9 -> 180960 | Y9: 0.13 | Z9: =+Y9*B9 -> 235248 | AA9: =+Z9 -> 235248 | AB9: =+(D9+K9+N9+S9+X9+AA9)-B9 -> 0 | AC9: =+C9+E9+G9+I9+L9+O9+Q9+T9+V9+Y9 -> 1
A10: DAVID CORRALES RODAS (Honorarios) | B10: =+' NOMINAS ENE-DIC'!D21 -> 870000 | C10: =+'%'!B9 -> 0.2 | D10: =+B10*C10 -> 174000 | E10: =+'%'!C9 -> 0.1 | F10: =+B10*E10 -> 87000 | G10: =+'%'!D9 -> 0.2 | H10: =+B10*G10 -> 174000 | I10: =+'%'!E9 -> 0.15 | J10: =+B10*I10 -> 130500 | K10: =+F10+H10+J10 -> 391500 | L10: =+'%'!F9 -> 0 | M10: =+L10*B10 -> 0 | N10: =+M10 -> 0 | O10: 0.02 | P10: =+O10*B10 -> 17400 | Q10: =+'%'!H9 -> 0.1 | R10: =+Q10*B10 -> 87000 | S10: =+P10+R10 -> 104400 | T10: =+'%'!I9 -> 0 | U10: =+T10*B10 -> 0 | V10: =+'%'!J9 -> 0.2 | W10: =+V10*B10 -> 174000 | X10: =+U10+W10 -> 174000 | Y10: 0.03 | Z10: =+Y10*B10 -> 26100 | AA10: =+Z10 -> 26100 | AB10: =+(D10+K10+N10+S10+X10+AA10)-B10 -> 0 | AC10: =+C10+E10+G10+I10+L10+O10+Q10+T10+V10+Y10 -> 1
A11: TOTALES | B11: =SUM(B5:B10) -> 14072752 | D11: =SUM(D5:D10) -> 2345766 | F11: =SUM(F5:F10) -> 2179102.4 | H11: =SUM(H5:H10) -> 4195540.8 | J11: =SUM(J5:J10) -> 1095219.2 | K11: =SUM(K5:K10) -> 7469862.4 | M11: =SUM(M5:M10) -> 35555.6 | N11: =+M11 -> 35555.6 | P11: =SUM(P5:P10) -> 181243.2 | R11: =SUM(R5:R10) -> 621872.8 | S11: =+P11+R11 -> 803116 | U11: =SUM(U5:U10) -> 711112 | W11: =SUM(W5:W10) -> 1722926 | X11: =SUM(X5:X10) -> 2434038 | Z11: =SUM(Z5:Z10) -> 984414 | AA11: =SUM(AA5:AA10) -> 984414 | AB11: =+(D11+K11+N11+S11+X11+AA11)-B11 -> 0 | AC11: =+C11+E11+G11+I11+L11+O11+Q11+T11+V11+Y11 -> 0
A14: Otros gastos diferentes a Nomina y Honorarios | B14: Valor total del gasto | C14: Aministracion | D14: Total del gasto cargado a Administración | E14: juanitas Pro | F14: valor | G14: Juanitas Plus | H14: valor | I14: Conferencias | J14: Valor | K14: total de gasto en proyectos educativos | L14: Mercados | M14: Valor | N14: Total mercados | O14: Ropero | P14: Valor | Q14: Eventos Asociación Eucaristias-Bonos-Quinquenios-Ajuares-Retiros y otros | R14: Valor | S14: Total del gasto llevado a la Inversion social | T14: Tienda escolar | U14: Valor | V14: Venta de uniformes | W14: Valor | X14: CC7+CC8 | Y14: Arriendos comerciales | Z14: Valor | AA14: CC9 | AB14: casilla de prueba 1 | AC14: casilla de prueba 2 | AD14: total gasto inv social
A15: ASESORIA CONTABLE | B15: 1311360 | C15: 0.1 | D15: =+B15*C15 -> 131136 | E15: 0.05 | F15: =+B15*E15 -> 65568 | G15: 0.15 | H15: =+B15*G15 -> 196704 | I15: 0.01 | J15: =+B15*I15 -> 13113.6 | K15: =+F15+H15+J15 -> 275385.6 | L15: 0.01 | M15: =+L15*B15 -> 13113.6 | N15: =+M15 -> 13113.6 | O15: 0.03 | P15: =+O15*B15 -> 39340.8 | Q15: 0.05 | R15: =+Q15*B15 -> 65568 | S15: =+P15+R15 -> 104908.8 | T15: 0.15 | U15: =+T15*B15 -> 196704 | V15: 0.45 | W15: =+V15*B15 -> 590112 | X15: =+U15+W15 -> 786816 | Y15: 0 | Z15: =+Y15*B15 -> 0 | AA15: =+Z15 -> 0 | AB15: =+(D15+K15+N15+S15+X15+AA15)-B15 -> 0 | AC15: =+C15+E15+G15+I15+L15+O15+Q15+T15+V15+Y15 -> 1 | AD15: =+AA15+S15+K15 -> 380294.4
A16: ARL PRACTICANTE | B16: =+' NOMINAS ENE-DIC'!I8 -> 6260 | C16: 0 | D16: =+B16*C16 -> 0 | E16: 0.6 | F16: =+B16*E16 -> 3756 | G16: 0.4 | H16: =+B16*G16 -> 2504 | I16: 0 | J16: =+B16*I16 -> 0 | K16: =+F16+H16+J16 -> 6260 | L16: 0 | M16: =+L16*B16 -> 0 | N16: =+M16 -> 0 | O16: 0 | P16: =+O16*B16 -> 0 | Q16: 0 | R16: =+Q16*B16 -> 0 | S16: =+P16+R16 -> 0 | T16: 0 | U16: =+T16*B16 -> 0 | V16: 0 | W16: =+V16*B16 -> 0 | X16: =+U16+W16 -> 0 | Y16: 0 | Z16: =+Y16*B16 -> 0 | AA16: =+Z16 -> 0 | AB16: =+(D16+K16+N16+S16+X16+AA16)-B16 -> 0 | AC16: =+C16+E16+G16+I16+L16+O16+Q16+T16+V16+Y16 -> 1 | AD16: =+AA16+S16+K16 -> 6260
A17: OTROS HONORARIOS | B17: 640000 | C17: 0.1 | D17: =+B17*C17 -> 64000 | E17: 0 | F17: =+B17*E17 -> 0 | G17: 0 | H17: =+B17*G17 -> 0 | I17: 0 | J17: =+B17*I17 -> 0 | K17: =+F17+H17+J17 -> 0 | L17: 0.01 | M17: =+L17*B17 -> 6400 | N17: =+M17 -> 6400 | O17: 0.1 | P17: =+O17*B17 -> 64000 | Q17: 0.15 | R17: =+Q17*B17 -> 96000 | S17: =+P17+R17 -> 160000 | T17: 0.2 | U17: =+T17*B17 -> 128000 | V17: 0.34 | W17: =+V17*B17 -> 217600 | X17: =+U17+W17 -> 345600 | Y17: 0.1 | Z17: =+Y17*B17 -> 64000 | AA17: =+Z17 -> 64000 | AB17: =+(D17+K17+N17+S17+X17+AA17)-B17 -> 0 | AC17: =+C17+E17+G17+I17+L17+O17+Q17+T17+V17+Y17 -> 1 | AD17: =+AA17+S17+K17 -> 224000
A18: IMPUESTOS VARIOS | C18: 0.1 | D18: =+B18*C18 -> 0 | E18: 0 | F18: =+B18*E18 -> 0 | G18: 0 | H18: =+B18*G18 -> 0 | I18: 0 | J18: =+B18*I18 -> 0 | K18: =+F18+H18+J18 -> 0 | L18: 0 | M18: =+L18*B18 -> 0 | N18: =+M18 -> 0 | O18: 0 | P18: =+O18*B18 -> 0 | Q18: 0 | R18: =+Q18*B18 -> 0 | S18: =+P18+R18 -> 0 | T18: 0.1 | U18: =+T18*B18 -> 0 | V18: 0.7 | W18: =+V18*B18 -> 0 | X18: =+U18+W18 -> 0 | Y18: 0.1 | Z18: =+Y18*B18 -> 0 | AA18: =+Z18 -> 0 | AB18: =+(D18+K18+N18+S18+X18+AA18)-B18 -> 0 | AC18: =+C18+E18+G18+I18+L18+O18+Q18+T18+V18+Y18 -> 1 | AD18: =+AA18+S18+K18 -> 0
A19: SEGUROS | C19: 0.1 | D19: =+B19*C19 -> 0 | E19: 0.05 | F19: =+B19*E19 -> 0 | G19: 0.05 | H19: =+B19*G19 -> 0 | I19: 0.01 | J19: =+B19*I19 -> 0 | K19: =+F19+H19+J19 -> 0 | L19: 0 | M19: =+L19*B19 -> 0 | N19: =+M19 -> 0 | O19: 0.05 | P19: =+O19*B19 -> 0 | Q19: 0.05 | R19: =+Q19*B19 -> 0 | S19: =+P19+R19 -> 0 | T19: 0 | U19: =+T19*B19 -> 0 | V19: 0.45 | W19: =+V19*B19 -> 0 | X19: =+U19+W19 -> 0 | Y19: 0.24 | Z19: =+Y19*B19 -> 0 | AA19: =+Z19 -> 0 | AB19: =+(D19+K19+N19+S19+X19+AA19)-B19 -> 0 | AC19: =+C19+E19+G19+I19+L19+O19+Q19+T19+V19+Y19 -> 1 | AD19: =+AA19+S19+K19 -> 0
A20: ADMINISTRACION DE LOCALES | B20: =419894+97920 -> 517814 | C20: 0 | D20: =+B20*C20 -> 0 | E20: 0 | F20: =+B20*E20 -> 0 | G20: 0 | H20: =+B20*G20 -> 0 | I20: 0 | J20: =+B20*I20 -> 0 | K20: =+F20+H20+J20 -> 0 | L20: 0 | M20: =+L20*B20 -> 0 | N20: =+M20 -> 0 | O20: 0 | P20: =+O20*B20 -> 0 | Q20: 0 | R20: =+Q20*B20 -> 0 | S20: =+P20+R20 -> 0 | T20: 0 | U20: =+T20*B20 -> 0 | V20: 0 | W20: =+V20*B20 -> 0 | X20: =+U20+W20 -> 0 | Y20: 1 | Z20: =+Y20*B20 -> 517814 | AA20: =+Z20 -> 517814 | AB20: =+(D20+K20+N20+S20+X20+AA20)-B20 -> 0 | AC20: =+C20+E20+G20+I20+L20+O20+Q20+T20+V20+Y20 -> 1 | AD20: =+AA20+S20+K20 -> 517814
A21: TELEFONIA | B21: 195075 | C21: 0.1 | D21: =+B21*C21 -> 19507.5 | E21: 0.05 | F21: =+B21*E21 -> 9753.75 | G21: 0.15 | H21: =+B21*G21 -> 29261.25 | I21: 0 | J21: =+B21*I21 -> 0 | K21: =+F21+H21+J21 -> 39015 | L21: 0 | M21: =+L21*B21 -> 0 | N21: =+M21 -> 0 | O21: 0 | P21: =+O21*B21 -> 0 | Q21: 0.05 | R21: =+Q21*B21 -> 9753.75 | S21: =+P21+R21 -> 9753.75 | T21: 0.15 | U21: =+T21*B21 -> 29261.25 | V21: 0.45 | W21: =+V21*B21 -> 87783.75 | X21: =+U21+W21 -> 117045 | Y21: 0.05 | Z21: =+Y21*B21 -> 9753.75 | AA21: =+Z21 -> 9753.75 | AB21: =+(D21+K21+N21+S21+X21+AA21)-B21 -> 0 | AC21: =+C21+E21+G21+I21+L21+O21+Q21+T21+V21+Y21 -> 1 | AD21: =+AA21+S21+K21 -> 58522.5
A22: INTERNET | B22: 201221 | C22: 0.1 | D22: =+B22*C22 -> 20122.1 | E22: 0.05 | F22: =+B22*E22 -> 10061.05 | G22: 0.15 | H22: =+B22*G22 -> 30183.15 | I22: 0 | J22: =+B22*I22 -> 0 | K22: =+F22+H22+J22 -> 40244.2 | L22: 0 | M22: =+L22*B22 -> 0 | N22: =+M22 -> 0 | O22: 0 | P22: =+O22*B22 -> 0 | Q22: 0.05 | R22: =+Q22*B22 -> 10061.05 | S22: =+P22+R22 -> 10061.05 | T22: 0.15 | U22: =+T22*B22 -> 30183.15 | V22: 0.45 | W22: =+V22*B22 -> 90549.45 | X22: =+U22+W22 -> 120732.6 | Y22: 0.05 | Z22: =+Y22*B22 -> 10061.05 | AA22: =+Z22 -> 10061.05 | AB22: =+(D22+K22+N22+S22+X22+AA22)-B22 -> 0 | AC22: =+C22+E22+G22+I22+L22+O22+Q22+T22+V22+Y22 -> 1 | AD22: =+AA22+S22+K22 -> 60366.3
A23: ASEO Y VIGILANCIA | B23: 201246 | C23: 0.1 | D23: =+B23*C23 -> 20124.6 | E23: 0 | F23: =+B23*E23 -> 0 | G23: 0 | H23: =+B23*G23 -> 0 | I23: 0.1 | J23: =+B23*I23 -> 20124.6 | K23: =+F23+H23+J23 -> 20124.6 | L23: 0 | M23: =+L23*B23 -> 0 | N23: =+M23 -> 0 | O23: 0.05 | P23: =+O23*B23 -> 10062.3 | Q23: 0.1 | R23: =+Q23*B23 -> 20124.6 | S23: =+P23+R23 -> 30186.9 | T23: 0.05 | U23: =+T23*B23 -> 10062.3 | V23: 0.6 | W23: =+V23*B23 -> 120747.6 | X23: =+U23+W23 -> 130809.9 | Y23: 0 | Z23: =+Y23*B23 -> 0 | AA23: =+Z23 -> 0 | AB23: =+(D23+K23+N23+S23+X23+AA23)-B23 -> 0 | AC23: =+C23+E23+G23+I23+L23+O23+Q23+T23+V23+Y23 -> 1 | AD23: =+AA23+S23+K23 -> 50311.5
A24: GOOGLE SUITE-LICENCIAS Y HOSTING | B24: =384000+1708205 -> 2092205 | C24: 0.1 | D24: =+B24*C24 -> 209220.5 | E24: 0 | F24: =+B24*E24 -> 0 | G24: 0.1 | H24: =+B24*G24 -> 209220.5 | I24: 0.02 | J24: =+B24*I24 -> 41844.1 | K24: =+F24+H24+J24 -> 251064.6 | L24: 0 | M24: =+L24*B24 -> 0 | N24: =+M24 -> 0 | O24: 0.1 | P24: =+O24*B24 -> 209220.5 | Q24: 0.05 | R24: =+Q24*B24 -> 104610.25 | S24: =+P24+R24 -> 313830.75 | T24: 0.02 | U24: =+T24*B24 -> 41844.1 | V24: 0.61 | W24: =+V24*B24 -> 1276245.1 | X24: =+U24+W24 -> 1318089.2 | Y24: 0 | Z24: =+Y24*B24 -> 0 | AA24: =+Z24 -> 0 | AB24: =+(D24+K24+N24+S24+X24+AA24)-B24 -> 0 | AC24: =+C24+E24+G24+I24+L24+O24+Q24+T24+V24+Y24 -> 1 | AD24: =+AA24+S24+K24 -> 564895.35
A25: COMPRA DE ACTIVOS OFICINA | B25: =3898000+295000 -> 4193000 | C25: 0.1 | D25: =+B25*C25 -> 419300 | E25: 0 | F25: =+B25*E25 -> 0 | G25: 0.1 | H25: =+B25*G25 -> 419300 | I25: 0.02 | J25: =+B25*I25 -> 83860 | K25: =+F25+H25+J25 -> 503160 | L25: 0 | M25: =+L25*B25 -> 0 | N25: =+M25 -> 0 | O25: 0.1 | P25: =+O25*B25 -> 419300 | Q25: 0.05 | R25: =+Q25*B25 -> 209650 | S25: =+P25+R25 -> 628950 | T25: 0.02 | U25: =+T25*B25 -> 83860 | V25: 0.61 | W25: =+V25*B25 -> 2557730 | X25: =+U25+W25 -> 2641590 | Y25: 0 | Z25: =+Y25*B25 -> 0 | AA25: =+Z25 -> 0 | AB25: =+(D25+K25+N25+S25+X25+AA25)-B25 -> 0 | AC25: =+C25+E25+G25+I25+L25+O25+Q25+T25+V25+Y25 -> 1 | AD25: =+AA25+S25+K25 -> 1132110
A26: PUBLICIDAD Y PORTAL WEB | C26: 0.1 | D26: =+B26*C26 -> 0 | E26: 0.05 | F26: =+B26*E26 -> 0 | G26: 0.05 | H26: =+B26*G26 -> 0 | I26: 0.01 | J26: =+B26*I26 -> 0 | K26: =+F26+H26+J26 -> 0 | L26: 0 | M26: =+L26*B26 -> 0 | N26: =+M26 -> 0 | O26: 0.02 | P26: =+O26*B26 -> 0 | Q26: 0.25 | R26: =+Q26*B26 -> 0 | S26: =+P26+R26 -> 0 | T26: 0.02 | U26: =+T26*B26 -> 0 | V26: 0.5 | W26: =+V26*B26 -> 0 | X26: =+U26+W26 -> 0 | Y26: 0 | Z26: =+Y26*B26 -> 0 | AA26: =+Z26 -> 0 | AB26: =+(D26+K26+N26+S26+X26+AA26)-B26 -> 0 | AC26: =+C26+E26+G26+I26+L26+O26+Q26+T26+V26+Y26 -> 1 | AD26: =+AA26+S26+K26 -> 0
A27: MENSAJERIA | C27: 0.1 | D27: =+B27*C27 -> 0 | E27: 0 | F27: =+B27*E27 -> 0 | G27: 0 | H27: =+B27*G27 -> 0 | I27: 0 | J27: =+B27*I27 -> 0 | K27: =+F27+H27+J27 -> 0 | L27: 0.1 | M27: =+L27*B27 -> 0 | N27: =+M27 -> 0 | O27: 0.1 | P27: =+O27*B27 -> 0 | Q27: 0.28 | R27: =+Q27*B27 -> 0 | S27: =+P27+R27 -> 0 | T27: 0.02 | U27: =+T27*B27 -> 0 | V27: 0.4 | W27: =+V27*B27 -> 0 | X27: =+U27+W27 -> 0 | Y27: 0 | Z27: =+Y27*B27 -> 0 | AA27: =+Z27 -> 0 | AB27: =+(D27+K27+N27+S27+X27+AA27)-B27 -> 0 | AC27: =+C27+E27+G27+I27+L27+O27+Q27+T27+V27+Y27 -> 1 | AD27: =+AA27+S27+K27 -> 0
A28: SERVICIOS GENERALES | C28: 0.1 | D28: =+B28*C28 -> 0 | E28: 0 | F28: =+B28*E28 -> 0 | G28: 0 | H28: =+B28*G28 -> 0 | I28: 0 | J28: =+B28*I28 -> 0 | K28: =+F28+H28+J28 -> 0 | L28: 0.01 | M28: =+L28*B28 -> 0 | N28: =+M28 -> 0 | O28: 0.1 | P28: =+O28*B28 -> 0 | Q28: 0.2 | R28: =+Q28*B28 -> 0 | S28: =+P28+R28 -> 0 | T28: 0.05 | U28: =+T28*B28 -> 0 | V28: 0.5 | W28: =+V28*B28 -> 0 | X28: =+U28+W28 -> 0 | Y28: 0.04 | Z28: =+Y28*B28 -> 0 | AA28: =+Z28 -> 0 | AB28: =+(D28+K28+N28+S28+X28+AA28)-B28 -> 0 | AC28: =+C28+E28+G28+I28+L28+O28+Q28+T28+V28+Y28 -> 1 | AD28: =+AA28+S28+K28 -> 0
A29: TRANSPORTE FLETES Y ACARREOS | C29: 0.1 | D29: =+B29*C29 -> 0 | E29: 0 | F29: =+B29*E29 -> 0 | G29: 0 | H29: =+B29*G29 -> 0 | I29: 0 | J29: =+B29*I29 -> 0 | K29: =+F29+H29+J29 -> 0 | L29: 0.01 | M29: =+L29*B29 -> 0 | N29: =+M29 -> 0 | O29: 0.1 | P29: =+O29*B29 -> 0 | Q29: 0.2 | R29: =+Q29*B29 -> 0 | S29: =+P29+R29 -> 0 | T29: 0.05 | U29: =+T29*B29 -> 0 | V29: 0.3 | W29: =+V29*B29 -> 0 | X29: =+U29+W29 -> 0 | Y29: 0.24 | Z29: =+Y29*B29 -> 0 | AA29: =+Z29 -> 0 | AB29: =+(D29+K29+N29+S29+X29+AA29)-B29 -> 0 | AC29: =+C29+E29+G29+I29+L29+O29+Q29+T29+V29+Y29 -> 1 | AD29: =+AA29+S29+K29 -> 0
A30: GASTOS LEGALES | B30: 7900 | C30: 0.1 | D30: =+B30*C30 -> 790 | E30: 0 | F30: =+B30*E30 -> 0 | G30: 0 | H30: =+B30*G30 -> 0 | I30: 0 | J30: =+B30*I30 -> 0 | K30: =+F30+H30+J30 -> 0 | L30: 0.01 | M30: =+L30*B30 -> 79 | N30: =+M30 -> 79 | O30: 0.1 | P30: =+O30*B30 -> 790 | Q30: 0.2 | R30: =+Q30*B30 -> 1580 | S30: =+P30+R30 -> 2370 | T30: 0.05 | U30: =+T30*B30 -> 395 | V30: 0.54 | W30: =+V30*B30 -> 4266 | X30: =+U30+W30 -> 4661 | Y30: 0 | Z30: =+Y30*B30 -> 0 | AA30: =+Z30 -> 0 | AB30: =+(D30+K30+N30+S30+X30+AA30)-B30 -> 0 | AC30: =+C30+E30+G30+I30+L30+O30+Q30+T30+V30+Y30 -> 1 | AD30: =+AA30+S30+K30 -> 2370
A31: GASTOS DE REPRESENTACION | C31: 0.1 | D31: =+B31*C31 -> 0 | E31: 0 | F31: =+B31*E31 -> 0 | G31: 0 | H31: =+B31*G31 -> 0 | I31: 0 | J31: =+B31*I31 -> 0 | K31: =+F31+H31+J31 -> 0 | L31: 0.01 | M31: =+L31*B31 -> 0 | N31: =+M31 -> 0 | O31: 0.1 | P31: =+O31*B31 -> 0 | Q31: 0.2 | R31: =+Q31*B31 -> 0 | S31: =+P31+R31 -> 0 | T31: 0.05 | U31: =+T31*B31 -> 0 | V31: 0.54 | W31: =+V31*B31 -> 0 | X31: =+U31+W31 -> 0 | Y31: 0 | Z31: =+Y31*B31 -> 0 | AA31: =+Z31 -> 0 | AB31: =+(D31+K31+N31+S31+X31+AA31)-B31 -> 0 | AC31: =+C31+E31+G31+I31+L31+O31+Q31+T31+V31+Y31 -> 1 | AD31: =+AA31+S31+K31 -> 0
A32: ADMINISTRACION DE REDES SOCIALES | C32: 0.1 | D32: =+B32*C32 -> 0 | E32: 0 | F32: =+B32*E32 -> 0 | G32: 0 | H32: =+B32*G32 -> 0 | I32: 0 | J32: =+B32*I32 -> 0 | K32: =+F32+H32+J32 -> 0 | L32: 0.01 | M32: =+L32*B32 -> 0 | N32: =+M32 -> 0 | O32: 0.1 | P32: =+O32*B32 -> 0 | Q32: 0.2 | R32: =+Q32*B32 -> 0 | S32: =+P32+R32 -> 0 | T32: 0.05 | U32: =+T32*B32 -> 0 | V32: 0.54 | W32: =+V32*B32 -> 0 | X32: =+U32+W32 -> 0 | Y32: 0 | Z32: =+Y32*B32 -> 0 | AA32: =+Z32 -> 0 | AB32: =+(D32+K32+N32+S32+X32+AA32)-B32 -> 0 | AC32: =+C32+E32+G32+I32+L32+O32+Q32+T32+V32+Y32 -> 1 | AD32: =+AA32+S32+K32 -> 0
A33: MANTENIMIENTO Y REPARACIONES | B33: =277143+180000+280000 -> 737143 | C33: 0.1 | D33: =+B33*C33 -> 73714.3 | E33: 0 | F33: =+B33*E33 -> 0 | G33: 0 | H33: =+B33*G33 -> 0 | I33: 0 | J33: =+B33*I33 -> 0 | K33: =+F33+H33+J33 -> 0 | L33: 0 | M33: =+L33*B33 -> 0 | N33: =+M33 -> 0 | O33: 0 | P33: =+O33*B33 -> 0 | Q33: 0 | R33: =+Q33*B33 -> 0 | S33: =+P33+R33 -> 0 | T33: 0 | U33: =+T33*B33 -> 0 | V33: 0.2 | W33: =+V33*B33 -> 147428.6 | X33: =+U33+W33 -> 147428.6 | Y33: 0.7 | Z33: =+Y33*B33 -> 516000.1 | AA33: =+Z33 -> 516000.1 | AB33: =+(D33+K33+N33+S33+X33+AA33)-B33 -> 0 | AC33: =+C33+E33+G33+I33+L33+O33+Q33+T33+V33+Y33 -> 1 | AD33: =+AA33+S33+K33 -> 516000.1
A34: GASTOS DIFERIDOS | B34: 188981 | C34: 0.1 | D34: =+B34*C34 -> 18898.1 | E34: 0 | F34: =+B34*E34 -> 0 | G34: 0 | H34: =+B34*G34 -> 0 | I34: 0 | J34: =+B34*I34 -> 0 | K34: =+F34+H34+J34 -> 0 | L34: 0.01 | M34: =+L34*B34 -> 1889.81 | N34: =+M34 -> 1889.81 | O34: 0.05 | P34: =+O34*B34 -> 9449.05 | Q34: 0.1 | R34: =+Q34*B34 -> 18898.1 | S34: =+P34+R34 -> 28347.15 | T34: 0.02 | U34: =+T34*B34 -> 3779.62 | V34: 0.4 | W34: =+V34*B34 -> 75592.4 | X34: =+U34+W34 -> 79372.02 | Y34: 0.32 | Z34: =+Y34*B34 -> 60473.92 | AA34: =+Z34 -> 60473.92 | AB34: =+(D34+K34+N34+S34+X34+AA34)-B34 -> 0 | AC34: =+C34+E34+G34+I34+L34+O34+Q34+T34+V34+Y34 -> 1 | AD34: =+AA34+S34+K34 -> 88821.07
A35: PAPELERIA | C35: 0.1 | D35: =+B35*C35 -> 0 | E35: 0 | F35: =+B35*E35 -> 0 | G35: 0 | H35: =+B35*G35 -> 0 | I35: 0 | J35: =+B35*I35 -> 0 | K35: =+F35+H35+J35 -> 0 | L35: 0.01 | M35: =+L35*B35 -> 0 | N35: =+M35 -> 0 | O35: 0.1 | P35: =+O35*B35 -> 0 | Q35: 0.1 | R35: =+Q35*B35 -> 0 | S35: =+P35+R35 -> 0 | T35: 0.1 | U35: =+T35*B35 -> 0 | V35: 0.59 | W35: =+V35*B35 -> 0 | X35: =+U35+W35 -> 0 | Y35: 0 | Z35: =+Y35*B35 -> 0 | AA35: =+Z35 -> 0 | AB35: =+(D35+K35+N35+S35+X35+AA35)-B35 -> 0 | AC35: =+C35+E35+G35+I35+L35+O35+Q35+T35+V35+Y35 -> 1 | AD35: =+AA35+S35+K35 -> 0
A36: ASEO Y CAFETERIA | B36: =102074+113147 -> 215221 | C36: 0.1 | D36: =+B36*C36 -> 21522.1 | E36: 0 | F36: =+B36*E36 -> 0 | G36: 0 | H36: =+B36*G36 -> 0 | I36: 0 | J36: =+B36*I36 -> 0 | K36: =+F36+H36+J36 -> 0 | L36: 0.01 | M36: =+L36*B36 -> 2152.21 | N36: =+M36 -> 2152.21 | O36: 0.1 | P36: =+O36*B36 -> 21522.1 | Q36: 0.1 | R36: =+Q36*B36 -> 21522.1 | S36: =+P36+R36 -> 43044.2 | T36: 0.1 | U36: =+T36*B36 -> 21522.1 | V36: 0.59 | W36: =+V36*B36 -> 126980.39 | X36: =+U36+W36 -> 148502.49 | Y36: 0 | Z36: =+Y36*B36 -> 0 | AA36: =+Z36 -> 0 | AB36: =+(D36+K36+N36+S36+X36+AA36)-B36 -> 0 | AC36: =+C36+E36+G36+I36+L36+O36+Q36+T36+V36+Y36 -> 1 | AD36: =+AA36+S36+K36 -> 43044.2
A37: TAXIS Y BUSES | B37: =268400+8000 -> 276400 | C37: 0.1 | D37: =+B37*C37 -> 27640 | E37: 0 | F37: =+B37*E37 -> 0 | G37: 0 | H37: =+B37*G37 -> 0 | I37: 0 | J37: =+B37*I37 -> 0 | K37: =+F37+H37+J37 -> 0 | L37: 0.01 | M37: =+L37*B37 -> 2764 | N37: =+M37 -> 2764 | O37: 0.1 | P37: =+O37*B37 -> 27640 | Q37: 0.1 | R37: =+Q37*B37 -> 27640 | S37: =+P37+R37 -> 55280 | T37: 0.1 | U37: =+T37*B37 -> 27640 | V37: 0.59 | W37: =+V37*B37 -> 163076 | X37: =+U37+W37 -> 190716 | Y37: 0 | Z37: =+Y37*B37 -> 0 | AA37: =+Z37 -> 0 | AB37: =+(D37+K37+N37+S37+X37+AA37)-B37 -> 0 | AC37: =+C37+E37+G37+I37+L37+O37+Q37+T37+V37+Y37 -> 1 | AD37: =+AA37+S37+K37 -> 55280
A38: PARQUEADEROS | B38: 4202 | C38: 0.1 | D38: =+B38*C38 -> 420.2 | E38: 0 | F38: =+B38*E38 -> 0 | G38: 0 | H38: =+B38*G38 -> 0 | I38: 0 | J38: =+B38*I38 -> 0 | K38: =+F38+H38+J38 -> 0 | L38: 0.01 | M38: =+L38*B38 -> 42.02 | N38: =+M38 -> 42.02 | O38: 0.1 | P38: =+O38*B38 -> 420.2 | Q38: 0.2 | R38: =+Q38*B38 -> 840.4 | S38: =+P38+R38 -> 1260.6 | T38: 0.1 | U38: =+T38*B38 -> 420.2 | V38: 0.49 | W38: =+V38*B38 -> 2058.98 | X38: =+U38+W38 -> 2479.18 | Y38: 0 | Z38: =+Y38*B38 -> 0 | AA38: =+Z38 -> 0 | AB38: =+(D38+K38+N38+S38+X38+AA38)-B38 -> 0 | AC38: =+C38+E38+G38+I38+L38+O38+Q38+T38+V38+Y38 -> 1 | AD38: =+AA38+S38+K38 -> 1260.6
A39: ATENCION EXALUMNAS | B39: 223529 | C39: 0 | D39: =+B39*C39 -> 0 | E39: 0 | F39: =+B39*E39 -> 0 | G39: 0 | H39: =+B39*G39 -> 0 | I39: 0 | J39: =+B39*I39 -> 0 | K39: =+F39+H39+J39 -> 0 | L39: 0 | M39: =+L39*B39 -> 0 | N39: =+M39 -> 0 | O39: 0 | P39: =+O39*B39 -> 0 | Q39: 1 | R39: =+Q39*B39 -> 223529 | S39: =+P39+R39 -> 223529 | T39: 0 | U39: =+T39*B39 -> 0 | V39: 0 | W39: =+V39*B39 -> 0 | X39: =+U39+W39 -> 0 | Y39: 0 | Z39: =+Y39*B39 -> 0 | AA39: =+Z39 -> 0 | AB39: =+(D39+K39+N39+S39+X39+AA39)-B39 -> 0 | AC39: =+C39+E39+G39+I39+L39+O39+Q39+T39+V39+Y39 -> 1 | AD39: =+AA39+S39+K39 -> 223529
A40: COSTO DE PROYECTO MERCADOS | C40: 0 | D40: =+B40*C40 -> 0 | E40: 0 | F40: =+B40*E40 -> 0 | G40: 0 | H40: =+B40*G40 -> 0 | I40: 0 | J40: =+B40*I40 -> 0 | K40: =+F40+H40+J40 -> 0 | L40: 1 | M40: =+L40*B40 -> 0 | N40: =+M40 -> 0 | O40: 0 | P40: =+O40*B40 -> 0 | Q40: 0 | R40: =+Q40*B40 -> 0 | S40: =+P40+R40 -> 0 | T40: 0 | U40: =+T40*B40 -> 0 | V40: 0 | W40: =+V40*B40 -> 0 | X40: =+U40+W40 -> 0 | Y40: 0 | Z40: =+Y40*B40 -> 0 | AA40: =+Z40 -> 0 | AB40: =+(D40+K40+N40+S40+X40+AA40)-B40 -> 0 | AC40: =+C40+E40+G40+I40+L40+O40+Q40+T40+V40+Y40 -> 1 | AD40: =+AA40+S40+K40 -> 0
A41: COSTO PROYECTO ÉXITO | B41: 103616 | C41: 0 | D41: =+B41*C41 -> 0 | E41: 0 | F41: =+B41*E41 -> 0 | G41: 0 | H41: =+B41*G41 -> 0 | I41: 0 | J41: =+B41*I41 -> 0 | K41: =+F41+H41+J41 -> 0 | L41: 1 | M41: =+L41*B41 -> 103616 | N41: =+M41 -> 103616 | O41: 0 | P41: =+O41*B41 -> 0 | Q41: 0 | R41: =+Q41*B41 -> 0 | S41: =+P41+R41 -> 0 | T41: 0 | U41: =+T41*B41 -> 0 | V41: 0 | W41: =+V41*B41 -> 0 | X41: =+U41+W41 -> 0 | Y41: 0 | Z41: =+Y41*B41 -> 0 | AA41: =+Z41 -> 0 | AB41: =+(D41+K41+N41+S41+X41+AA41)-B41 -> 0 | AC41: =+C41+E41+G41+I41+L41+O41+Q41+T41+V41+Y41 -> 1 | AD41: =+AA41+S41+K41 -> 0
A42: DONACIONES VARIAS | C42: 0 | D42: =+B42*C42 -> 0 | E42: 0 | F42: =+B42*E42 -> 0 | G42: 0 | H42: =+B42*G42 -> 0 | I42: 0 | J42: =+B42*I42 -> 0 | K42: =+F42+H42+J42 -> 0 | L42: 0 | M42: =+L42*B42 -> 0 | N42: =+M42 -> 0 | O42: 0 | P42: =+O42*B42 -> 0 | Q42: 0 | R42: =+Q42*B42 -> 0 | S42: =+P42+R42 -> 0 | T42: 0 | U42: =+T42*B42 -> 0 | V42: 0.5 | W42: =+V42*B42 -> 0 | X42: =+U42+W42 -> 0 | Y42: 0.5 | Z42: =+Y42*B42 -> 0 | AA42: =+Z42 -> 0 | AB42: =+(D42+K42+N42+S42+X42+AA42)-B42 -> 0 | AC42: =+C42+E42+G42+I42+L42+O42+Q42+T42+V42+Y42 -> 1 | AD42: =+AA42+S42+K42 -> 0
...

Sheet EJECUCION SOC FEB 24
A1: EJECUCION SOCIAL ASOCIACION DE EXALUMNAS COLEGIO LA ENSEÑAÑZA
C2: ADMINISTRACION | E2: PROYECTOS EDUCATIVOS INVERSION SOCIAL | L2: INVERSION SOCIAL | T2: ACTIVIDAD COMERCIAL | AB2: PRUEBA
A3: CONCEPTO DEL GASTO | B3: GASTO O COSTO TOTAL | C3: CCA | D3: CCA | E3: CC1 | G3: CC2 | I3: CC3 | K3: CC1+CC2+CC3 | L3: CC4 | N3: CC4 | O3: CC5 | Q3: CC6 | S3: CC5+CC6 | T3: CC7 | V3: CC8 | X3: CC7+CC8 | Y3: CC9 | AA3: CC7+CC8+CC9
A4: Nomina y Honorarios | B4: Valor total del gasto | C4: Aministracion | D4: Total del gasto cargado a Administración | E4: juanitas Pro | F4: valor | G4: Juanitas Plus | H4: valor | I4: Conferencias | J4: Valor | K4: Total del gasto en Proyectos eduacativos | L4: Mercados | M4: Valor | N4: Total mercados | O4: Ropero | P4: Valor | Q4: Eventos Asociación Eucaristias-Bonos-Quinquenios-Ajuares-Retiros y otros | R4: Valor | S4: Total del gasto llevado a la Inversion social | T4: Tienda escolar | U4: Valor | V4: Venta de uniformes | W4: Valor | X4: Total de gasto tienda y uniformes | Y4: Arriendos comerciales | Z4: Valor | AA4: Total del gasto y costo llevado a la Actividad comercial | AB4: casilla de prueba 1 | AC4: casilla de prueba 2
A5: CLARA VICTORIA MONTEALEGRE | B5: =+' NOMINAS ENE-DIC'!I30+' NOMINAS ENE-DIC'!I40 -> 4555560 | C5: =+'%'!B4 -> 0.35 | D5: =+B5*C5 -> 1594446 | E5: =+'%'!C4 -> 0 | F5: =+B5*E5 -> 0 | G5: =+'%'!D4 -> 0 | H5: =+B5*G5 -> 0 | I5: =+'%'!E4 -> 0 | J5: =+B5*I5 -> 0 | K5: =+F5+H5+J5 -> 0 | L5: =+'%'!F4 -> 0.01 | M5: =+L5*B5 -> 45555.6 | N5: =+M5 -> 45555.6 | O5: =+'%'!G4 -> 0.02 | P5: =+O5*B5 -> 91111.2 | Q5: =+'%'!H4 -> 0.05 | R5: =+Q5*B5 -> 227778 | S5: =+P5+R5 -> 318889.2 | T5: =+'%'!I4 -> 0.2 | U5: =+T5*B5 -> 911112 | V5: =+'%'!J4 -> 0.27 | W5: =+V5*B5 -> 1230001.2 | X5: =+U5+W5 -> 2141113.2 | Y5: =+'%'!K4 -> 0.1 | Z5: =+Y5*B5 -> 455556 | AA5: =+Z5 -> 455556 | AB5: =+(D5+K5+N5+S5+X5+AA5)-B5 -> 0 | AC5: =+C5+E5+G5+I5+L5+O5+Q5+T5+V5+Y5 -> 1
A6: DAVID ALEJANDRO MUÑOZ RUIZ | B6: =+' NOMINAS ENE-DIC'!I32+' NOMINAS ENE-DIC'!I42 -> 3227649.2 | C6: =+'%'!B5 -> 0 | D6: =+B6*C6 -> 0 | E6: =+'%'!C5 -> 0.4 | F6: =+B6*E6 -> 1291059.7 | G6: =+'%'!D5 -> 0.6 | H6: =+B6*G6 -> 1936589.5 | I6: =+'%'!E5 -> 0 | J6: =+B6*I6 -> 0 | K6: =+F6+H6+J6 -> 3227649.2 | L6: =+'%'!F5 -> 0 | M6: =+L6*B6 -> 0 | N6: =+M6 -> 0 | O6: =+'%'!G5 -> 0 | P6: =+O6*B6 -> 0 | Q6: =+'%'!H5 -> 0 | R6: =+Q6*B6 -> 0 | S6: =+P6+R6 -> 0 | T6: =+'%'!I5 -> 0 | U6: =+T6*B6 -> 0 | V6: =+'%'!J5 -> 0 | W6: =+V6*B6 -> 0 | X6: =+U6+W6 -> 0 | Y6: =+'%'!K5 -> 0 | Z6: =+Y6*B6 -> 0 | AA6: =+Z6 -> 0 | AB6: =+(D6+K6+N6+S6+X6+AA6)-B6 -> 0 | AC6: =+C6+E6+G6+I6+L6+O6+Q6+T6+V6+Y6 -> 1
A7: VANESSA FORONDA LOPEZ | B7: =+' NOMINAS ENE-DIC'!I29+' NOMINAS ENE-DIC'!I39 -> 3227649.2 | C7: =+'%'!B7 -> 0 | D7: =+B7*C7 -> 0 | E7: =+'%'!C7 -> 0.25 | F7: =+B7*E7 -> 806912.3 | G7: =+'%'!D7 -> 0.45 | H7: =+B7*G7 -> 1452442.1 | I7: =+'%'!E7 -> 0.2 | J7: =+B7*I7 -> 645529.84 | K7: =+F7+H7+J7 -> 2904884.3 | L7: =+'%'!F7 -> 0 | M7: =+L7*B7 -> 0 | N7: =+M7 -> 0 | O7: =+'%'!G7 -> 0 | P7: =+O7*B7 -> 0 | Q7: =+'%'!H7 -> 0.05 | R7: =+Q7*B7 -> 161382.46 | S7: =+P7+R7 -> 161382.46 | T7: =+'%'!I7 -> 0 | U7: 0 | V7: =+'%'!J7 -> 0.05 | W7: =+V7*B7 -> 161382.46 | X7: =+U7+W7 -> 161382.46 | Y7: =+'%'!K7 -> 0 | Z7: =+Y7*B7 -> 0 | AA7: =+Z7 -> 0 | AB7: =+(D7+K7+N7+S7+X7+AA7)-B7 -> 0 | AC7: =+C7+E7+G7+I7+L7+O7+Q7+T7+V7+Y7 -> 1
A8: YUDY ALEJANDRA CARRASQUILLA TAMAYO | B8: =+' NOMINAS ENE-DIC'!I31+' NOMINAS ENE-DIC'!I41+' NOMINAS ENE-DIC'!I45+' NOMINAS ENE-DIC'!I46 -> 2360415 | C8: 1 | D8: =+B8*C8 -> 2360415 | E8: 0 | F8: =+B8*E8 -> 0 | G8: 0 | H8: =+B8*G8 -> 0 | I8: 0 | J8: =+B8*I8 -> 0 | K8: =+F8+H8+J8 -> 0 | L8: 0 | M8: =+L8*B8 -> 0 | N8: =+M8 -> 0 | O8: 0 | P8: =+O8*B8 -> 0 | Q8: 0 | R8: =+Q8*B8 -> 0 | S8: =+P8+R8 -> 0 | T8: 0 | U8: 0 | V8: 0 | W8: =+V8*B8 -> 0 | X8: =+U8+W8 -> 0 | Y8: 0 | Z8: =+Y8*B8 -> 0 | AA8: =+Z8 -> 0 | AB8: =+(D8+K8+N8+S8+X8+AA8)-B8 -> 0 | AC8: =+C8+E8+G8+I8+L8+O8+Q8+T8+V8+Y8 -> 1
A9: MARIA EUGENIA RESTREPO (Honorarios) | B9: =+' NOMINAS ENE-DIC'!B48 -> 4240000 | C9: =+'%'!B8 -> 0.2 | D9: =+B9*C9 -> 848000 | E9: =+'%'!C8 -> 0.1 | F9: =+B9*E9 -> 424000 | G9: =+'%'!D8 -> 0.3 | H9: =+B9*G9 -> 1272000 | I9: =+'%'!E8 -> 0.1 | J9: =+B9*I9 -> 424000 | K9: =+F9+H9+J9 -> 2120000 | L9: =+'%'!F8 -> 0 | M9: =+L9*B9 -> 0 | N9: =+M9 -> 0 | O9: 0.02 | P9: =+O9*B9 -> 84800 | Q9: =+'%'!H8 -> 0.05 | R9: =+Q9*B9 -> 212000 | S9: =+P9+R9 -> 296800 | T9: =+'%'!I8 -> 0 | U9: 0 | V9: =+'%'!J8 -> 0.1 | W9: =+V9*B9 -> 424000 | X9: =+U9+W9 -> 424000 | Y9: 0.13 | Z9: =+Y9*B9 -> 551200 | AA9: =+Z9 -> 551200 | AB9: =+(D9+K9+N9+S9+X9+AA9)-B9 -> 0 | AC9: =+C9+E9+G9+I9+L9+O9+Q9+T9+V9+Y9 -> 1
A10: LUZ MARIA GOMEZ SALDARRIAGA | B10: =+' NOMINAS ENE-DIC'!B49 -> 4900000 | C10: =+'%'!B8 -> 0.2 | D10: =+B10*C10 -> 980000 | E10: =+'%'!C8 -> 0.1 | F10: =+B10*E10 -> 490000 | G10: =+'%'!D8 -> 0.3 | H10: =+B10*G10 -> 1470000 | I10: =+'%'!E8 -> 0.1 | J10: =+B10*I10 -> 490000 | K10: =+F10+H10+J10 -> 2450000 | L10: =+'%'!F8 -> 0 | M10: =+L10*B10 -> 0 | N10: =+M10 -> 0 | O10: 0.02 | P10: =+O10*B10 -> 98000 | Q10: =+'%'!H8 -> 0.05 | R10: =+Q10*B10 -> 245000 | S10: =+P10+R10 -> 343000 | T10: =+'%'!I8 -> 0 | U10: =+T10*B10 -> 0 | V10: =+'%'!J8 -> 0.1 | W10: =+V10*B10 -> 490000 | X10: =+U10+W10 -> 490000 | Y10: 0.13 | Z10: =+Y10*B10 -> 637000 | AA10: =+Z10 -> 637000 | AB10: =+(D10+K10+N10+S10+X10+AA10)-B10 -> 0 | AC10: =+C10+E10+G10+I10+L10+O10+Q10+T10+V10+Y10 -> 1
A11: DAVID CORRALES RODAS (Honorarios) | B11: =+' NOMINAS ENE-DIC'!B47 -> 870000 | C11: =+'%'!B9 -> 0.2 | D11: =+B11*C11 -> 174000 | E11: =+'%'!C9 -> 0.1 | F11: =+B11*E11 -> 87000 | G11: =+'%'!D9 -> 0.2 | H11: =+B11*G11 -> 174000 | I11: =+'%'!E9 -> 0.15 | J11: =+B11*I11 -> 130500 | K11: =+F11+H11+J11 -> 391500 | L11: =+'%'!F9 -> 0 | M11: =+L11*B11 -> 0 | N11: =+M11 -> 0 | O11: 0.02 | P11: =+O11*B11 -> 17400 | Q11: =+'%'!H9 -> 0.1 | R11: =+Q11*B11 -> 87000 | S11: =+P11+R11 -> 104400 | T11: =+'%'!I9 -> 0 | U11: =+T11*B11 -> 0 | V11: =+'%'!J9 -> 0.2 | W11: =+V11*B11 -> 174000 | X11: =+U11+W11 -> 174000 | Y11: 0.03 | Z11: =+Y11*B11 -> 26100 | AA11: =+Z11 -> 26100 | AB11: =+(D11+K11+N11+S11+X11+AA11)-B11 -> 0 | AC11: =+C11+E11+G11+I11+L11+O11+Q11+T11+V11+Y11 -> 1
A12: TOTALES | B12: =SUM(B5:B11) -> 23381273 | D12: =SUM(D5:D11) -> 5956861 | F12: =SUM(F5:F11) -> 3098972 | H12: =SUM(H5:H11) -> 6305031.7 | J12: =SUM(J5:J11) -> 1690029.8 | K12: =SUM(K5:K11) -> 11094033 | M12: =SUM(M5:M11) -> 45555.6 | N12: =+M12 -> 45555.6 | P12: =SUM(P5:P11) -> 291311.2 | R12: =SUM(R5:R11) -> 933160.46 | S12: =+P12+R12 -> 1224471.7 | U12: =SUM(U5:U11) -> 911112 | W12: =SUM(W5:W11) -> 2479383.7 | X12: =+U12+W12 -> 3390495.7 | Z12: =SUM(Z5:Z11) -> 1669856 | AA12: =+Z12 -> 1669856 | AB12: =+(D12+K12+N12+S12+X12+AA12)-B12 -> 0 | AC12: =+C12+E12+G12+I12+L12+O12+Q12+T12+V12+Y12 -> 0
A15: Otros gastos diferentes a Nomina y Honorarios | B15: Valor total del gasto | C15: Aministracion | D15: Total del gasto cargado a Administración | E15: juanitas Pro | F15: valor | G15: Juanitas Plus | H15: valor | I15: Conferencias | J15: Valor | K15: total de gasto en proyectos educativos | L15: Mercados | M15: Valor | N15: Total mercados | O15: Ropero | P15: Valor | Q15: Eventos Asociación Eucaristias-Bonos-Quinquenios-Ajuares-Retiros y otros | R15: Valor | S15: Total del gasto llevado a la Inversion social | T15: Tienda escolar | U15: Valor | V15: Venta de uniformes | W15: Valor | X15: Total de gasto tienda y uniformes | Y15: Arriendos comerciales | Z15: Valor | AA15: Total del gasto y costo llevado a la Actividad comercial | AB15: casilla de prueba 1 | AC15: casilla de prueba 2 | AD15: total gasto inv social
A16: ASESORIA CONTABLE | B16: 1311360 | C16: 0.1 | D16: =+B16*C16 -> 131136 | E16: 0.05 | F16: =+B16*E16 -> 65568 | G16: 0.15 | H16: =+B16*G16 -> 196704 | I16: 0.01 | J16: =+B16*I16 -> 13113.6 | K16: =+F16+H16+J16 -> 275385.6 | L16: 0.01 | M16: =+L16*B16 -> 13113.6 | N16: =+M16 -> 13113.6 | O16: 0.03 | P16: =+O16*B16 -> 39340.8 | Q16: 0.05 | R16: =+Q16*B16 -> 65568 | S16: =+P16+R16 -> 104908.8 | T16: 0.15 | U16: =+T16*B16 -> 196704 | V16: 0.45 | W16: =+V16*B16 -> 590112 | X16: =+U16+W16 -> 786816 | Y16: 0 | Z16: =+Y16*B16 -> 0 | AA16: =+Z16 -> 0 | AB16: =+(D16+K16+N16+S16+X16+AA16)-B16 -> 0 | AC16: =+C16+E16+G16+I16+L16+O16+Q16+T16+V16+Y16 -> 1 | AD16: =+AA16+S16+K16 -> 380294.4
A17: ARL PRACTICANTE | B17: 0 | C17: 0 | D17: =+B17*C17 -> 0 | E17: 0.6 | F17: =+B17*E17 -> 0 | G17: 0.4 | H17: =+B17*G17 -> 0 | I17: 0 | J17: =+B17*I17 -> 0 | K17: =+F17+H17+J17 -> 0 | L17: 0 | M17: =+L17*B17 -> 0 | N17: =+M17 -> 0 | O17: 0 | P17: =+O17*B17 -> 0 | Q17: 0 | R17: =+Q17*B17 -> 0 | S17: =+P17+R17 -> 0 | T17: 0 | U17: =+T17*B17 -> 0 | V17: 0 | W17: =+V17*B17 -> 0 | X17: =+U17+W17 -> 0 | Y17: 0 | Z17: =+Y17*B17 -> 0 | AA17: =+Z17 -> 0 | AB17: =+(D17+K17+N17+S17+X17+AA17)-B17 -> 0 | AC17: =+C17+E17+G17+I17+L17+O17+Q17+T17+V17+Y17 -> 1 | AD17: =+AA17+S17+K17 -> 0
A18: AUXILIO DE TRANSPORTE PRACTICANTES | B18: 1000000 | C18: 0 | D18: =+B18*C18 -> 0 | E18: 0.6 | F18: =+B18*E18 -> 600000 | G18: 0.4 | H18: =+B18*G18 -> 400000 | I18: 0 | J18: =+B18*I18 -> 0 | K18: =+F18+H18+J18 -> 1000000 | L18: 0 | M18: =+L18*B18 -> 0 | N18: =+M18 -> 0 | O18: 0 | P18: =+O18*B18 -> 0 | Q18: 0 | R18: =+Q18*B18 -> 0 | S18: =+P18+R18 -> 0 | T18: 0 | U18: =+T18*B18 -> 0 | V18: 0 | W18: =+V18*B18 -> 0 | X18: =+U18+W18 -> 0 | Y18: 0 | Z18: =+Y18*B18 -> 0 | AA18: =+Z18 -> 0 | AB18: =+(D18+K18+N18+S18+X18+AA18)-B18 -> 0 | AC18: =+C18+E18+G18+I18+L18+O18+Q18+T18+V18+Y18 -> 1 | AD18: =+AA18+S18+K18 -> 1000000
A19: OTROS HONORARIOS | B19: =1500000+400000+650000 -> 2550000 | C19: 0.1 | D19: =+B19*C19 -> 255000 | E19: 0 | F19: =+B19*E19 -> 0 | G19: 0 | H19: =+B19*G19 -> 0 | I19: 0 | J19: =+B19*I19 -> 0 | K19: =+F19+H19+J19 -> 0 | L19: 0.01 | M19: =+L19*B19 -> 25500 | N19: =+M19 -> 25500 | O19: 0.1 | P19: =+O19*B19 -> 255000 | Q19: 0.15 | R19: =+Q19*B19 -> 382500 | S19: =+P19+R19 -> 637500 | T19: 0.2 | U19: =+T19*B19 -> 510000 | V19: 0.34 | W19: =+V19*B19 -> 867000 | X19: =+U19+W19 -> 1377000 | Y19: 0.1 | Z19: =+Y19*B19 -> 255000 | AA19: =+Z19 -> 255000 | AB19: =+(D19+K19+N19+S19+X19+AA19)-B19 -> 0 | AC19: =+C19+E19+G19+I19+L19+O19+Q19+T19+V19+Y19 -> 1 | AD19: =+AA19+S19+K19 -> 892500
A20: IMPUESTOS VARIOS | B20: 53248 | C20: 0.1 | D20: =+B20*C20 -> 5324.8 | E20: 0 | F20: =+B20*E20 -> 0 | G20: 0 | H20: =+B20*G20 -> 0 | I20: 0 | J20: =+B20*I20 -> 0 | K20: =+F20+H20+J20 -> 0 | L20: 0 | M20: =+L20*B20 -> 0 | N20: =+M20 -> 0 | O20: 0 | P20: =+O20*B20 -> 0 | Q20: 0 | R20: =+Q20*B20 -> 0 | S20: =+P20+R20 -> 0 | T20: 0.1 | U20: =+T20*B20 -> 5324.8 | V20: 0.7 | W20: =+V20*B20 -> 37273.6 | X20: =+U20+W20 -> 42598.4 | Y20: 0.1 | Z20: =+Y20*B20 -> 5324.8 | AA20: =+Z20 -> 5324.8 | AB20: =+(D20+K20+N20+S20+X20+AA20)-B20 -> 0 | AC20: =+C20+E20+G20+I20+L20+O20+Q20+T20+V20+Y20 -> 1 | AD20: =+AA20+S20+K20 -> 5324.8
A21: SEGUROS | C21: 0.1 | D21: =+B21*C21 -> 0 | E21: 0.05 | F21: =+B21*E21 -> 0 | G21: 0.05 | H21: =+B21*G21 -> 0 | I21: 0.01 | J21: =+B21*I21 -> 0 | K21: =+F21+H21+J21 -> 0 | L21: 0 | M21: =+L21*B21 -> 0 | N21: =+M21 -> 0 | O21: 0.05 | P21: =+O21*B21 -> 0 | Q21: 0.05 | R21: =+Q21*B21 -> 0 | S21: =+P21+R21 -> 0 | T21: 0 | U21: =+T21*B21 -> 0 | V21: 0.45 | W21: =+V21*B21 -> 0 | X21: =+U21+W21 -> 0 | Y21: 0.24 | Z21: =+Y21*B21 -> 0 | AA21: =+Z21 -> 0 | AB21: =+(D21+K21+N21+S21+X21+AA21)-B21 -> 0 | AC21: =+C21+E21+G21+I21+L21+O21+Q21+T21+V21+Y21 -> 1 | AD21: =+AA21+S21+K21 -> 0
A22: ADMINISTRACION DE LOCALES | B22: =97920+419894 -> 517814 | C22: 0 | D22: =+B22*C22 -> 0 | E22: 0 | F22: =+B22*E22 -> 0 | G22: 0 | H22: =+B22*G22 -> 0 | I22: 0 | J22: =+B22*I22 -> 0 | K22: =+F22+H22+J22 -> 0 | L22: 0 | M22: =+L22*B22 -> 0 | N22: =+M22 -> 0 | O22: 0 | P22: =+O22*B22 -> 0 | Q22: 0 | R22: =+Q22*B22 -> 0 | S22: =+P22+R22 -> 0 | T22: 0 | U22: =+T22*B22 -> 0 | V22: 0 | W22: =+V22*B22 -> 0 | X22: =+U22+W22 -> 0 | Y22: 1 | Z22: =+Y22*B22 -> 517814 | AA22: =+Z22 -> 517814 | AB22: =+(D22+K22+N22+S22+X22+AA22)-B22 -> 0 | AC22: =+C22+E22+G22+I22+L22+O22+Q22+T22+V22+Y22 -> 1 | AD22: =+AA22+S22+K22 -> 517814
A23: TELEFONIA | B23: =185338+16500 -> 201838 | C23: 0.1 | D23: =+B23*C23 -> 20183.8 | E23: 0.05 | F23: =+B23*E23 -> 10091.9 | G23: 0.15 | H23: =+B23*G23 -> 30275.7 | I23: 0 | J23: =+B23*I23 -> 0 | K23: =+F23+H23+J23 -> 40367.6 | L23: 0 | M23: =+L23*B23 -> 0 | N23: =+M23 -> 0 | O23: 0 | P23: =+O23*B23 -> 0 | Q23: 0.05 | R23: =+Q23*B23 -> 10091.9 | S23: =+P23+R23 -> 10091.9 | T23: 0.15 | U23: =+T23*B23 -> 30275.7 | V23: 0.45 | W23: =+V23*B23 -> 90827.1 | X23: =+U23+W23 -> 121102.8 | Y23: 0.05 | Z23: =+Y23*B23 -> 10091.9 | AA23: =+Z23 -> 10091.9 | AB23: =+(D23+K23+N23+S23+X23+AA23)-B23 -> 0 | AC23: =+C23+E23+G23+I23+L23+O23+Q23+T23+V23+Y23 -> 1 | AD23: =+AA23+S23+K23 -> 60551.4
A24: INTERNET | B24: 236032 | C24: 0.1 | D24: =+B24*C24 -> 23603.2 | E24: 0.05 | F24: =+B24*E24 -> 11801.6 | G24: 0.15 | H24: =+B24*G24 -> 35404.8 | I24: 0 | J24: =+B24*I24 -> 0 | K24: =+F24+H24+J24 -> 47206.4 | L24: 0 | M24: =+L24*B24 -> 0 | N24: =+M24 -> 0 | O24: 0 | P24: =+O24*B24 -> 0 | Q24: 0.05 | R24: =+Q24*B24 -> 11801.6 | S24: =+P24+R24 -> 11801.6 | T24: 0.15 | U24: =+T24*B24 -> 35404.8 | V24: 0.45 | W24: =+V24*B24 -> 106214.4 | X24: =+U24+W24 -> 141619.2 | Y24: 0.05 | Z24: =+Y24*B24 -> 11801.6 | AA24: =+Z24 -> 11801.6 | AB24: =+(D24+K24+N24+S24+X24+AA24)-B24 -> 0 | AC24: =+C24+E24+G24+I24+L24+O24+Q24+T24+V24+Y24 -> 1 | AD24: =+AA24+S24+K24 -> 70809.6
A25: ASEO Y VIGILANCIA | B25: 1209312 | C25: 0.1 | D25: =+B25*C25 -> 120931.2 | E25: 0 | F25: =+B25*E25 -> 0 | G25: 0 | H25: =+B25*G25 -> 0 | I25: 0.1 | J25: =+B25*I25 -> 120931.2 | K25: =+F25+H25+J25 -> 120931.2 | L25: 0 | M25: =+L25*B25 -> 0 | N25: =+M25 -> 0 | O25: 0.05 | P25: =+O25*B25 -> 60465.6 | Q25: 0.1 | R25: =+Q25*B25 -> 120931.2 | S25: =+P25+R25 -> 181396.8 | T25: 0.05 | U25: =+T25*B25 -> 60465.6 | V25: 0.6 | W25: =+V25*B25 -> 725587.2 | X25: =+U25+W25 -> 786052.8 | Y25: 0 | Z25: =+Y25*B25 -> 0 | AA25: =+Z25 -> 0 | AB25: =+(D25+K25+N25+S25+X25+AA25)-B25 -> 0 | AC25: =+C25+E25+G25+I25+L25+O25+Q25+T25+V25+Y25 -> 1 | AD25: =+AA25+S25+K25 -> 302328
A26: GOOGLE SUITE-LICENCIAS Y HOSTING | B26: =216000+1123119 -> 1339119 | C26: 0.1 | D26: =+B26*C26 -> 133911.9 | E26: 0 | F26: =+B26*E26 -> 0 | G26: 0.1 | H26: =+B26*G26 -> 133911.9 | I26: 0.02 | J26: =+B26*I26 -> 26782.38 | K26: =+F26+H26+J26 -> 160694.28 | L26: 0 | M26: =+L26*B26 -> 0 | N26: =+M26 -> 0 | O26: 0.1 | P26: =+O26*B26 -> 133911.9 | Q26: 0.05 | R26: =+Q26*B26 -> 66955.95 | S26: =+P26+R26 -> 200867.85 | T26: 0.02 | U26: =+T26*B26 -> 26782.38 | V26: 0.61 | W26: =+V26*B26 -> 816862.59 | X26: =+U26+W26 -> 843644.97 | Y26: 0 | Z26: =+Y26*B26 -> 0 | AA26: =+Z26 -> 0 | AB26: =+(D26+K26+N26+S26+X26+AA26)-B26 -> 0 | AC26: =+C26+E26+G26+I26+L26+O26+Q26+T26+V26+Y26 -> 1 | AD26: =+AA26+S26+K26 -> 361562.13
A27: COMPRA DE ACTIVOS OFICINA | C27: 0.1 | D27: =+B27*C27 -> 0 | E27: 0 | F27: =+B27*E27 -> 0 | G27: 0.1 | H27: =+B27*G27 -> 0 | I27: 0.02 | J27: =+B27*I27 -> 0 | K27: =+F27+H27+J27 -> 0 | L27: 0 | M27: =+L27*B27 -> 0 | N27: =+M27 -> 0 | O27: 0.1 | P27: =+O27*B27 -> 0 | Q27: 0.05 | R27: =+Q27*B27 -> 0 | S27: =+P27+R27 -> 0 | T27: 0.02 | U27: =+T27*B27 -> 0 | V27: 0.61 | W27: =+V27*B27 -> 0 | X27: =+U27+W27 -> 0 | Y27: 0 | Z27: =+Y27*B27 -> 0 | AA27: =+Z27 -> 0 | AB27: =+(D27+K27+N27+S27+X27+AA27)-B27 -> 0 | AC27: =+C27+E27+G27+I27+L27+O27+Q27+T27+V27+Y27 -> 1 | AD27: =+AA27+S27+K27 -> 0
A28: PUBLICIDAD Y PORTAL WEB | C28: 0.1 | D28: =+B28*C28 -> 0 | E28: 0.05 | F28: =+B28*E28 -> 0 | G28: 0.05 | H28: =+B28*G28 -> 0 | I28: 0.01 | J28: =+B28*I28 -> 0 | K28: =+F28+H28+J28 -> 0 | L28: 0 | M28: =+L28*B28 -> 0 | N28: =+M28 -> 0 | O28: 0.02 | P28: =+O28*B28 -> 0 | Q28: 0.25 | R28: =+Q28*B28 -> 0 | S28: =+P28+R28 -> 0 | T28: 0.02 | U28: =+T28*B28 -> 0 | V28: 0.5 | W28: =+V28*B28 -> 0 | X28: =+U28+W28 -> 0 | Y28: 0 | Z28: =+Y28*B28 -> 0 | AA28: =+Z28 -> 0 | AB28: =+(D28+K28+N28+S28+X28+AA28)-B28 -> 0 | AC28: =+C28+E28+G28+I28+L28+O28+Q28+T28+V28+Y28 -> 1 | AD28: =+AA28+S28+K28 -> 0
A29: MENSAJERIA | B29: 160000 | C29: 0.1 | D29: =+B29*C29 -> 16000 | E29: 0 | F29: =+B29*E29 -> 0 | G29: 0 | H29: =+B29*G29 -> 0 | I29: 0 | J29: =+B29*I29 -> 0 | K29: =+F29+H29+J29 -> 0 | L29: 0.1 | M29: =+L29*B29 -> 16000 | N29: =+M29 -> 16000 | O29: 0.1 | P29: =+O29*B29 -> 16000 | Q29: 0.28 | R29: =+Q29*B29 -> 44800 | S29: =+P29+R29 -> 60800 | T29: 0.02 | U29: =+T29*B29 -> 3200 | V29: 0.4 | W29: =+V29*B29 -> 64000 | X29: =+U29+W29 -> 67200 | Y29: 0 | Z29: =+Y29*B29 -> 0 | AA29: =+Z29 -> 0 | AB29: =+(D29+K29+N29+S29+X29+AA29)-B29 -> 0 | AC29: =+C29+E29+G29+I29+L29+O29+Q29+T29+V29+Y29 -> 1 | AD29: =+AA29+S29+K29 -> 60800
A30: SERVICIOS GENERALES | C30: 0.1 | D30: =+B30*C30 -> 0 | E30: 0 | F30: =+B30*E30 -> 0 | G30: 0 | H30: =+B30*G30 -> 0 | I30: 0 | J30: =+B30*I30 -> 0 | K30: =+F30+H30+J30 -> 0 | L30: 0.01 | M30: =+L30*B30 -> 0 | N30: =+M30 -> 0 | O30: 0.1 | P30: =+O30*B30 -> 0 | Q30: 0.2 | R30: =+Q30*B30 -> 0 | S30: =+P30+R30 -> 0 | T30: 0.05 | U30: =+T30*B30 -> 0 | V30: 0.5 | W30: =+V30*B30 -> 0 | X30: =+U30+W30 -> 0 | Y30: 0.04 | Z30: =+Y30*B30 -> 0 | AA30: =+Z30 -> 0 | AB30: =+(D30+K30+N30+S30+X30+AA30)-B30 -> 0 | AC30: =+C30+E30+G30+I30+L30+O30+Q30+T30+V30+Y30 -> 1 | AD30: =+AA30+S30+K30 -> 0
A31: TRANSPORTE FLETES Y ACARREOS | C31: 0.1 | D31: =+B31*C31 -> 0 | E31: 0 | F31: =+B31*E31 -> 0 | G31: 0 | H31: =+B31*G31 -> 0 | I31: 0 | J31: =+B31*I31 -> 0 | K31: =+F31+H31+J31 -> 0 | L31: 0.01 | M31: =+L31*B31 -> 0 | N31: =+M31 -> 0 | O31: 0.1 | P31: =+O31*B31 -> 0 | Q31: 0.2 | R31: =+Q31*B31 -> 0 | S31: =+P31+R31 -> 0 | T31: 0.05 | U31: =+T31*B31 -> 0 | V31: 0.3 | W31: =+V31*B31 -> 0 | X31: =+U31+W31 -> 0 | Y31: 0.24 | Z31: =+Y31*B31 -> 0 | AA31: =+Z31 -> 0 | AB31: =+(D31+K31+N31+S31+X31+AA31)-B31 -> 0 | AC31: =+C31+E31+G31+I31+L31+O31+Q31+T31+V31+Y31 -> 1 | AD31: =+AA31+S31+K31 -> 0
A32: GASTOS LEGALES | C32: 0.1 | D32: =+B32*C32 -> 0 | E32: 0 | F32: =+B32*E32 -> 0 | G32: 0 | H32: =+B32*G32 -> 0 | I32: 0 | J32: =+B32*I32 -> 0 | K32: =+F32+H32+J32 -> 0 | L32: 0.01 | M32: =+L32*B32 -> 0 | N32: =+M32 -> 0 | O32: 0.1 | P32: =+O32*B32 -> 0 | Q32: 0.2 | R32: =+Q32*B32 -> 0 | S32: =+P32+R32 -> 0 | T32: 0.05 | U32: =+T32*B32 -> 0 | V32: 0.54 | W32: =+V32*B32 -> 0 | X32: =+U32+W32 -> 0 | Y32: 0 | Z32: =+Y32*B32 -> 0 | AA32: =+Z32 -> 0 | AB32: =+(D32+K32+N32+S32+X32+AA32)-B32 -> 0 | AC32: =+C32+E32+G32+I32+L32+O32+Q32+T32+V32+Y32 -> 1 | AD32: =+AA32+S32+K32 -> 0
A33: GASTOS DE REPRESENTACION | B33: 104958 | C33: 0.1 | D33: =+B33*C33 -> 10495.8 | E33: 0 | F33: =+B33*E33 -> 0 | G33: 0 | H33: =+B33*G33 -> 0 | I33: 0 | J33: =+B33*I33 -> 0 | K33: =+F33+H33+J33 -> 0 | L33: 0.01 | M33: =+L33*B33 -> 1049.58 | N33: =+M33 -> 1049.58 | O33: 0.1 | P33: =+O33*B33 -> 10495.8 | Q33: 0.2 | R33: =+Q33*B33 -> 20991.6 | S33: =+P33+R33 -> 31487.4 | T33: 0.05 | U33: =+T33*B33 -> 5247.9 | V33: 0.54 | W33: =+V33*B33 -> 56677.32 | X33: =+U33+W33 -> 61925.22 | Y33: 0 | Z33: =+Y33*B33 -> 0 | AA33: =+Z33 -> 0 | AB33: =+(D33+K33+N33+S33+X33+AA33)-B33 -> 0 | AC33: =+C33+E33+G33+I33+L33+O33+Q33+T33+V33+Y33 -> 1 | AD33: =+AA33+S33+K33 -> 31487.4
A34: ADMINISTRACION DE REDES SOCIALES | C34: 0.1 | D34: =+B34*C34 -> 0 | E34: 0 | F34: =+B34*E34 -> 0 | G34: 0 | H34: =+B34*G34 -> 0 | I34: 0 | J34: =+B34*I34 -> 0 | K34: =+F34+H34+J34 -> 0 | L34: 0.01 | M34: =+L34*B34 -> 0 | N34: =+M34 -> 0 | O34: 0.1 | P34: =+O34*B34 -> 0 | Q34: 0.2 | R34: =+Q34*B34 -> 0 | S34: =+P34+R34 -> 0 | T34: 0.05 | U34: =+T34*B34 -> 0 | V34: 0.54 | W34: =+V34*B34 -> 0 | X34: =+U34+W34 -> 0 | Y34: 0 | Z34: =+Y34*B34 -> 0 | AA34: =+Z34 -> 0 | AB34: =+(D34+K34+N34+S34+X34+AA34)-B34 -> 0 | AC34: =+C34+E34+G34+I34+L34+O34+Q34+T34+V34+Y34 -> 1 | AD34: =+AA34+S34+K34 -> 0
A35: MANTENIMIENTO Y REPARACIONES | B35: 383180 | C35: 0.1 | D35: =+B35*C35 -> 38318 | E35: 0 | F35: =+B35*E35 -> 0 | G35: 0 | H35: =+B35*G35 -> 0 | I35: 0 | J35: =+B35*I35 -> 0 | K35: =+F35+H35+J35 -> 0 | L35: 0 | M35: =+L35*B35 -> 0 | N35: =+M35 -> 0 | O35: 0 | P35: =+O35*B35 -> 0 | Q35: 0 | R35: =+Q35*B35 -> 0 | S35: =+P35+R35 -> 0 | T35: 0 | U35: =+T35*B35 -> 0 | V35: 0.2 | W35: =+V35*B35 -> 76636 | X35: =+U35+W35 -> 76636 | Y35: 0.7 | Z35: =+Y35*B35 -> 268226 | AA35: =+Z35 -> 268226 | AB35: =+(D35+K35+N35+S35+X35+AA35)-B35 -> 0 | AC35: =+C35+E35+G35+I35+L35+O35+Q35+T35+V35+Y35 -> 1 | AD35: =+AA35+S35+K35 -> 268226
A36: GASTOS DIFERIDOS | B36: 188981 | C36: 0.1 | D36: =+B36*C36 -> 18898.1 | E36: 0 | F36: =+B36*E36 -> 0 | G36: 0 | H36: =+B36*G36 -> 0 | I36: 0 | J36: =+B36*I36 -> 0 | K36: =+F36+H36+J36 -> 0 | L36: 0.01 | M36: =+L36*B36 -> 1889.81 | N36: =+M36 -> 1889.81 | O36: 0.05 | P36: =+O36*B36 -> 9449.05 | Q36: 0.1 | R36: =+Q36*B36 -> 18898.1 | S36: =+P36+R36 -> 28347.15 | T36: 0.02 | U36: =+T36*B36 -> 3779.62 | V36: 0.4 | W36: =+V36*B36 -> 75592.4 | X36: =+U36+W36 -> 79372.02 | Y36: 0.32 | Z36: =+Y36*B36 -> 60473.92 | AA36: =+Z36 -> 60473.92 | AB36: =+(D36+K36+N36+S36+X36+AA36)-B36 -> 0 | AC36: =+C36+E36+G36+I36+L36+O36+Q36+T36+V36+Y36 -> 1 | AD36: =+AA36+S36+K36 -> 88821.07
A37: GASTOS EN EJECUCION DE PROYECTOS | B37: 8330131 | C37: 0 | D37: =+B37*C37 -> 0 | E37: 0 | F37: =+B37*E37 -> 0 | G37: 0 | H37: =+B37*G37 -> 0 | I37: 0 | J37: =+B37*I37 -> 0 | K37: =+F37+H37+J37 -> 0 | L37: 0 | M37: =+L37*B37 -> 0 | N37: =+M37 -> 0 | O37: 0 | P37: =+O37*B37 -> 0 | Q37: 1 | R37: =+Q37*B37 -> 8330131 | S37: =+P37+R37 -> 8330131 | T37: 0 | U37: =+T37*B37 -> 0 | V37: 0 | W37: =+V37*B37 -> 0 | X37: =+U37+W37 -> 0 | Y37: 0 | Z37: =+Y37*B37 -> 0 | AA37: =+Z37 -> 0 | AB37: =+(D37+K37+N37+S37+X37+AA37)-B37 -> 0 | AC37: =+C37+E37+G37+I37+L37+O37+Q37+T37+V37+Y37 -> 1 | AD37: =+AA37+S37+K37 -> 8330131
